BEGIN:VCALENDAR
VERSION:2.0
PRODID:-//The Leros Way - ECPv6.15.13.1//NONSGML v1.0//EN
CALSCALE:GREGORIAN
METHOD:PUBLISH
X-WR-CALNAME:The Leros Way
X-ORIGINAL-URL:https://the-leros-way.com
X-WR-CALDESC:Events for The Leros Way
REFRESH-INTERVAL;VALUE=DURATION:PT1H
X-Robots-Tag:noindex
X-PUBLISHED-TTL:PT1H
BEGIN:VTIMEZONE
TZID:UTC
BEGIN:STANDARD
TZOFFSETFROM:+0000
TZOFFSETTO:+0000
TZNAME:UTC
DTSTART:20240101T000000
END:STANDARD
END:VTIMEZONE
BEGIN:VEVENT
DTSTART;TZID=UTC:20250817T200000
DTEND;TZID=UTC:20250817T233000
DTSTAMP:20260421T144408
CREATED:20230629T072053Z
LAST-MODIFIED:20250812T075046Z
UID:20055-1755460800-1755473400@the-leros-way.com
SUMMARY:Traditional Lerian Wedding Revival
DESCRIPTION:“Traditional Lerian wedding revival” singing and dancing at the Courtyard of Ag. Fanouriou. \nTraditional deserts and plenty of wine \nFree event.
URL:https://the-leros-way.com/event/traditional-lerian-wedding-revival/
LOCATION:Agios Fanourios courtyard\, Xirokampos\, Agios Fanourios \, Xirokampos\, Leros\, 85400\, Greece
CATEGORIES:Leros Municipality,Special Event
ATTACH;FMTTYPE=image/jpeg:https://the-leros-way.com/wp-content/uploads/2023/06/xirokampos-agios-Fanourios.jpg
ORGANIZER;CN="Leros Municipality":MAILTO:info@dopaisap.gr
END:VEVENT
END:VCALENDAR