BEGIN:VCALENDAR
VERSION:2.0
PRODID:-//The Leros Way - ECPv6.15.20//NONSGML v1.0//EN
CALSCALE:GREGORIAN
METHOD:PUBLISH
X-WR-CALNAME:The Leros Way
X-ORIGINAL-URL:https://the-leros-way.com
X-WR-CALDESC:Events for The Leros Way
REFRESH-INTERVAL;VALUE=DURATION:PT1H
X-Robots-Tag:noindex
X-PUBLISHED-TTL:PT1H
BEGIN:VTIMEZONE
TZID:UTC
BEGIN:STANDARD
TZOFFSETFROM:+0000
TZOFFSETTO:+0000
TZNAME:UTC
DTSTART:20230101T000000
END:STANDARD
END:VTIMEZONE
BEGIN:VEVENT
DTSTART;TZID=UTC:20240829T213000
DTEND;TZID=UTC:20240904T233000
DTSTAMP:20260424T124208
CREATED:20240829T152326Z
LAST-MODIFIED:20240829T152330Z
UID:43017-1724967000-1725492600@the-leros-way.com
SUMMARY:"The Movie of the week: "Hunted Hurt"
DESCRIPTION:From 29/8 till 4/9  time 21:30
URL:https://the-leros-way.com/event/the-movie-of-the-week-hunted-hurt/
LOCATION:Leros Cinema\, Municipal Cinema Leros\, Leros\, 85400\, Greece
CATEGORIES:Movie
ATTACH;FMTTYPE=image/jpeg:https://the-leros-way.com/wp-content/uploads/2024/08/3abfae87-2f93-4511-ab2c-5820e7ad72c0.jpeg
ORGANIZER;CN="Cine Leros":MAILTO:leros-cinema@leros.gr
END:VEVENT
END:VCALENDAR