BEGIN:VCALENDAR
VERSION:2.0
PRODID:-//The Leros Way - ECPv6.15.13.1//NONSGML v1.0//EN
CALSCALE:GREGORIAN
METHOD:PUBLISH
X-WR-CALNAME:The Leros Way
X-ORIGINAL-URL:https://the-leros-way.com
X-WR-CALDESC:Events for The Leros Way
REFRESH-INTERVAL;VALUE=DURATION:PT1H
X-Robots-Tag:noindex
X-PUBLISHED-TTL:PT1H
BEGIN:VTIMEZONE
TZID:UTC
BEGIN:STANDARD
TZOFFSETFROM:+0000
TZOFFSETTO:+0000
TZNAME:UTC
DTSTART:20230101T000000
END:STANDARD
END:VTIMEZONE
BEGIN:VEVENT
DTSTART;TZID=UTC:20240822T080000
DTEND;TZID=UTC:20240828T170000
DTSTAMP:20260422T063527
CREATED:20240822T052300Z
LAST-MODIFIED:20240822T052303Z
UID:42913-1724313600-1724864400@the-leros-way.com
SUMMARY:The movie of the week:  Τrap-George Harshnet
DESCRIPTION:TRAP  22/08-28/08-24 \nTime: 21:40
URL:https://the-leros-way.com/event/the-movie-of-the-week-%cf%84rap-george-harshnet/
CATEGORIES:Leros Cinema
ATTACH;FMTTYPE=image/jpeg:https://the-leros-way.com/wp-content/uploads/2024/08/viber_image_2024-08-22_08-07-29-705.jpg
END:VEVENT
END:VCALENDAR