BEGIN:VCALENDAR
VERSION:2.0
PRODID:-//The Leros Way - ECPv6.15.20//NONSGML v1.0//EN
CALSCALE:GREGORIAN
METHOD:PUBLISH
X-WR-CALNAME:The Leros Way
X-ORIGINAL-URL:https://the-leros-way.com
X-WR-CALDESC:Events for The Leros Way
REFRESH-INTERVAL;VALUE=DURATION:PT1H
X-Robots-Tag:noindex
X-PUBLISHED-TTL:PT1H
BEGIN:VTIMEZONE
TZID:UTC
BEGIN:STANDARD
TZOFFSETFROM:+0000
TZOFFSETTO:+0000
TZNAME:UTC
DTSTART:20220101T000000
END:STANDARD
END:VTIMEZONE
BEGIN:VEVENT
DTSTART;VALUE=DATE:20231116
DTEND;VALUE=DATE:20231120
DTSTAMP:20260426T032638
CREATED:20231108T145416Z
LAST-MODIFIED:20231108T145420Z
UID:30569-1700092800-1700438399@the-leros-way.com
SUMMARY:Tennis Tournament Regional Championship
DESCRIPTION:Tennis Tournament Regional Championship – South Aegean
URL:https://the-leros-way.com/event/tennis-tournament-regional-championship/
LOCATION:ΙΩΝΕΣ Leros tennis club\, ΙΩΝΕΣ Leros tennis club\, Leros\, 85400\, Greece
CATEGORIES:Sport
ATTACH;FMTTYPE=image/jpeg:https://the-leros-way.com/wp-content/uploads/2023/11/Tennis-16.jpg
ORGANIZER;CN="IONES Tennis Club":MAILTO:tennisleros@gmail.com
END:VEVENT
END:VCALENDAR