BEGIN:VCALENDAR
VERSION:2.0
PRODID:-//The Leros Way - ECPv6.15.20//NONSGML v1.0//EN
CALSCALE:GREGORIAN
METHOD:PUBLISH
X-WR-CALNAME:The Leros Way
X-ORIGINAL-URL:https://the-leros-way.com
X-WR-CALDESC:Events for The Leros Way
REFRESH-INTERVAL;VALUE=DURATION:PT1H
X-Robots-Tag:noindex
X-PUBLISHED-TTL:PT1H
BEGIN:VTIMEZONE
TZID:UTC
BEGIN:STANDARD
TZOFFSETFROM:+0000
TZOFFSETTO:+0000
TZNAME:UTC
DTSTART:20240101T000000
END:STANDARD
END:VTIMEZONE
BEGIN:VEVENT
DTSTART;TZID=UTC:20251115T120000
DTEND;TZID=UTC:20251115T140000
DTSTAMP:20260425T130902
CREATED:20251113T084452Z
LAST-MODIFIED:20251113T084529Z
UID:50695-1763208000-1763215200@the-leros-way.com
SUMMARY:Teens Basketball Game
DESCRIPTION:DERBY – PANIONIOS vs IPPOKRATIS  \nBring your friends\, family\, and lots of energy — every cheer counts! Let’s fill the stands and make this game unforgettable for our young players.
URL:https://the-leros-way.com/event/teens-basketball-game/
LOCATION:Basketball Court\, Δημοτικό Κλειστό Γυμναστήριο Μερικιάς\, Leros\, 85400\, Greece
CATEGORIES:Sport
ATTACH;FMTTYPE=image/webp:https://the-leros-way.com/wp-content/uploads/2025/11/viber_image_2025-11-13_10-38-53-718.webp
END:VEVENT
END:VCALENDAR