BEGIN:VCALENDAR
VERSION:2.0
PRODID:-//The Leros Way - ECPv6.15.13.1//NONSGML v1.0//EN
CALSCALE:GREGORIAN
METHOD:PUBLISH
X-WR-CALNAME:The Leros Way
X-ORIGINAL-URL:https://the-leros-way.com
X-WR-CALDESC:Events for The Leros Way
REFRESH-INTERVAL;VALUE=DURATION:PT1H
X-Robots-Tag:noindex
X-PUBLISHED-TTL:PT1H
BEGIN:VTIMEZONE
TZID:UTC
BEGIN:STANDARD
TZOFFSETFROM:+0000
TZOFFSETTO:+0000
TZNAME:UTC
DTSTART:20240101T000000
END:STANDARD
END:VTIMEZONE
BEGIN:VEVENT
DTSTART;TZID=UTC:20250322T190000
DTEND;TZID=UTC:20250322T203000
DTSTAMP:20260419T154408
CREATED:20250319T100020Z
LAST-MODIFIED:20250321T060530Z
UID:46157-1742670000-1742675400@the-leros-way.com
SUMMARY:Movie in the cinema: "Τhe Fall"
DESCRIPTION:Organised by High School \nCinema Theater 22/03 19:00 \n 
URL:https://the-leros-way.com/event/t%ce%b1%ce%b9%ce%bd%ce%af%ce%b1-%cf%83%cf%84%ce%bf-%cf%83%ce%b9%ce%bd%ce%b5%ce%bc%ce%ac-the-fall/
LOCATION:Leros Cinema\, Municipal Cinema Leros\, Leros\, 85400\, Greece
CATEGORIES:Movie
ATTACH;FMTTYPE=image/jpeg:https://the-leros-way.com/wp-content/uploads/2025/03/viber_image_2025-03-19_11-44-43-807.jpg
END:VEVENT
END:VCALENDAR