BEGIN:VCALENDAR
VERSION:2.0
PRODID:-//The Leros Way - ECPv6.15.20//NONSGML v1.0//EN
CALSCALE:GREGORIAN
METHOD:PUBLISH
X-WR-CALNAME:The Leros Way
X-ORIGINAL-URL:https://the-leros-way.com
X-WR-CALDESC:Events for The Leros Way
REFRESH-INTERVAL;VALUE=DURATION:PT1H
X-Robots-Tag:noindex
X-PUBLISHED-TTL:PT1H
BEGIN:VTIMEZONE
TZID:UTC
BEGIN:STANDARD
TZOFFSETFROM:+0000
TZOFFSETTO:+0000
TZNAME:UTC
DTSTART:20240101T000000
END:STANDARD
END:VTIMEZONE
BEGIN:VEVENT
DTSTART;TZID=UTC:20250803T173000
DTEND;TZID=UTC:20250803T210000
DTSTAMP:20260425T221503
CREATED:20240717T170325Z
LAST-MODIFIED:20250723T080157Z
UID:42144-1754242200-1754254800@the-leros-way.com
SUMMARY:Swimming Races "Alindia"
DESCRIPTION:Categories: \n– Boys’ swimming with boards 50m (ages 7-9)\n– Girls’ swimming with boards 50m (ages 7-9)\n– Boys’ swimming with inflatable mats 50m (ages 10-12)\n– Girls’ swimming with inflatable mats 50m (ages 10-12)\n– Free style swimming for boys 50m (ages 13-15)\n– Free style swimming for girls 50m (ages 13-15)\n– Free style swimming for boys/teenagers 50m (ages 16-18)\n– Free style swimming for girls/teenagers 50m (ages 16-18)\n– Mixed relay race (teams of 4 athletes) (ages 16-18)\n– Canoe race for boys/teenagers (ages 15-17)\n– Free style swimming 100m for men (ages 18+)\n– Free style swimming 100m for women (ages 18+)\n– Free style swimming 1 mile (Agia Marina-Alinda) \nRegistrations until 1/8/2025 \nContact Information\nPhone: 2247022109 \nOrganization\nMunicipality of Leros \nCo-organizers\n– Gymnastic Association of Youth of Leros\n– Leros Boat Club\n– Lifeguard Association\n– Leros Search and Rescue Team
URL:https://the-leros-way.com/event/swimming-races-alindia/
LOCATION:Alinda Beach\, Alinda Beach\, Leros\, 85400\, Greece
CATEGORIES:Children's event,Special Event,Sport
ATTACH;FMTTYPE=image/webp:https://the-leros-way.com/wp-content/uploads/2024/07/alintia19-2.webp
ORGANIZER;CN="Leros Municipality":MAILTO:info@dopaisap.gr
END:VEVENT
END:VCALENDAR