BEGIN:VCALENDAR
VERSION:2.0
PRODID:-//The Leros Way - ECPv6.15.13.1//NONSGML v1.0//EN
CALSCALE:GREGORIAN
METHOD:PUBLISH
X-WR-CALNAME:The Leros Way
X-ORIGINAL-URL:https://the-leros-way.com
X-WR-CALDESC:Events for The Leros Way
REFRESH-INTERVAL;VALUE=DURATION:PT1H
X-Robots-Tag:noindex
X-PUBLISHED-TTL:PT1H
BEGIN:VTIMEZONE
TZID:UTC
BEGIN:STANDARD
TZOFFSETFROM:+0000
TZOFFSETTO:+0000
TZNAME:UTC
DTSTART:20240101T000000
END:STANDARD
END:VTIMEZONE
BEGIN:VEVENT
DTSTART;VALUE=DATE:20250720
DTEND;VALUE=DATE:20250722
DTSTAMP:20260420T174219
CREATED:20250617T084526Z
LAST-MODIFIED:20250617T084715Z
UID:48763-1752969600-1753142399@the-leros-way.com
SUMMARY:Seminar: Playing of a Traditional String Instrument
DESCRIPTION:Lyra Seminar\, a traditional string instrument\, with musician Mr. Nikos Tzelos\,in collaboration with the Music Workshops of the Leros Center for Culture\, Research\, and Development “ARTEMIS”.
URL:https://the-leros-way.com/event/seminar-playing-of-a-traditional-string-instrument/
LOCATION:Agia Marina Elementary School\, «ΝΙΚΟΛΑΪΔΕΙΟ» ΔΗΜΟΤΙΚΟ ΣΧΟΛΕΙΟ ΑΓΙΑΣ ΜΑΡΙΝΑΣ ΛΕΡΟΥ\, Leros\, 85400\, Greece
CATEGORIES:Artemis Centre for Culture,Music,Seminars
ATTACH;FMTTYPE=image/webp:https://the-leros-way.com/wp-content/uploads/2025/06/62c0d0681b98fda848ea1ddd95a0ec640354b090.webp
ORGANIZER;CN="Artemis":MAILTO:artemis@leros.com
END:VEVENT
END:VCALENDAR