BEGIN:VCALENDAR
VERSION:2.0
PRODID:-//The Leros Way - ECPv6.15.20//NONSGML v1.0//EN
CALSCALE:GREGORIAN
METHOD:PUBLISH
X-WR-CALNAME:The Leros Way
X-ORIGINAL-URL:https://the-leros-way.com
X-WR-CALDESC:Events for The Leros Way
REFRESH-INTERVAL;VALUE=DURATION:PT1H
X-Robots-Tag:noindex
X-PUBLISHED-TTL:PT1H
BEGIN:VTIMEZONE
TZID:UTC
BEGIN:STANDARD
TZOFFSETFROM:+0000
TZOFFSETTO:+0000
TZNAME:UTC
DTSTART:20240101T000000
END:STANDARD
END:VTIMEZONE
BEGIN:VEVENT
DTSTART;TZID=UTC:20251214T153000
DTEND;TZID=UTC:20251214T170000
DTSTAMP:20260425T214319
CREATED:20251201T083021Z
LAST-MODIFIED:20251201T083025Z
UID:51090-1765726200-1765731600@the-leros-way.com
SUMMARY:Santa Run 2025
DESCRIPTION:A charity festive run for all ages. \nJoin to support a good cause. \nContact information: rania3415@hotmail.gr
URL:https://the-leros-way.com/event/santa-run-2025/
LOCATION:Super Market STAM – Tachliampouris\, Kamara\, Leros\, Greece
CATEGORIES:Charity Event,Children's event,Special Event,Sport
ATTACH;FMTTYPE=image/jpeg:https://the-leros-way.com/wp-content/uploads/2025/12/473589793_614991267718741_8576046656900101233_n-1.jpg
END:VEVENT
END:VCALENDAR