BEGIN:VCALENDAR
VERSION:2.0
PRODID:-//The Leros Way - ECPv6.15.13.1//NONSGML v1.0//EN
CALSCALE:GREGORIAN
METHOD:PUBLISH
X-WR-CALNAME:The Leros Way
X-ORIGINAL-URL:https://the-leros-way.com
X-WR-CALDESC:Events for The Leros Way
REFRESH-INTERVAL;VALUE=DURATION:PT1H
X-Robots-Tag:noindex
X-PUBLISHED-TTL:PT1H
BEGIN:VTIMEZONE
TZID:UTC
BEGIN:STANDARD
TZOFFSETFROM:+0000
TZOFFSETTO:+0000
TZNAME:UTC
DTSTART:20220101T000000
END:STANDARD
END:VTIMEZONE
BEGIN:VEVENT
DTSTART;TZID=UTC:20231130T203000
DTEND;TZID=UTC:20231206T223000
DTSTAMP:20260420T074521
CREATED:20231123T054402Z
LAST-MODIFIED:20231123T062223Z
UID:30819-1701376200-1701901800@the-leros-way.com
SUMMARY:Movie of the week: FONISSA
DESCRIPTION:Movie of the week: FONISSA \nThursday 30.11.23 – Tuesday 5.12.23 – 20:30 \n 
URL:https://the-leros-way.com/event/movie-of-the-week-fonissa/
LOCATION:Leros Cinema\, Municipal Cinema Leros\, Leros\, 85400\, Greece
CATEGORIES:Movie
ATTACH;FMTTYPE=image/jpeg:https://the-leros-way.com/wp-content/uploads/2023/11/Fonissa.jpg
ORGANIZER;CN="Cine Leros":MAILTO:leros-cinema@leros.gr
END:VEVENT
END:VCALENDAR