BEGIN:VCALENDAR
VERSION:2.0
PRODID:-//The Leros Way - ECPv6.15.13.1//NONSGML v1.0//EN
CALSCALE:GREGORIAN
METHOD:PUBLISH
X-WR-CALNAME:The Leros Way
X-ORIGINAL-URL:https://the-leros-way.com
X-WR-CALDESC:Events for The Leros Way
REFRESH-INTERVAL;VALUE=DURATION:PT1H
X-Robots-Tag:noindex
X-PUBLISHED-TTL:PT1H
BEGIN:VTIMEZONE
TZID:UTC
BEGIN:STANDARD
TZOFFSETFROM:+0000
TZOFFSETTO:+0000
TZNAME:UTC
DTSTART:20230101T000000
END:STANDARD
END:VTIMEZONE
BEGIN:VEVENT
DTSTART;TZID=UTC:20240810T210000
DTEND;TZID=UTC:20240810T230000
DTSTAMP:20260421T130610
CREATED:20230628T073512Z
LAST-MODIFIED:20240627T053204Z
UID:19805-1723323600-1723330800@the-leros-way.com
SUMMARY:Moonlight Cinema Part 1: Around the World 2024.
DESCRIPTION:Moonlight Cinema Part 1: Around the World 2024.
URL:https://the-leros-way.com/event/moonlight-cinema-3/
LOCATION:Artemis Courtyard\, Ειρηνοδικείο Λέρου\, Leros\, 85400\, Greece
CATEGORIES:Artemis Courtyard,Movie
ATTACH;FMTTYPE=image/jpeg:https://the-leros-way.com/wp-content/uploads/2023/05/Meeting-with-film-maker-1.jpg
ORGANIZER;CN="Greek-Italian Association of Friends of Leros %E2%80%9CAIAL%E2%80%9D":MAILTO:petrokaravo@yahoo.it
END:VEVENT
END:VCALENDAR