BEGIN:VCALENDAR
VERSION:2.0
PRODID:-//The Leros Way - ECPv6.15.13.1//NONSGML v1.0//EN
CALSCALE:GREGORIAN
METHOD:PUBLISH
X-WR-CALNAME:The Leros Way
X-ORIGINAL-URL:https://the-leros-way.com
X-WR-CALDESC:Events for The Leros Way
REFRESH-INTERVAL;VALUE=DURATION:PT1H
X-Robots-Tag:noindex
X-PUBLISHED-TTL:PT1H
BEGIN:VTIMEZONE
TZID:UTC
BEGIN:STANDARD
TZOFFSETFROM:+0000
TZOFFSETTO:+0000
TZNAME:UTC
DTSTART:20220101T000000
END:STANDARD
END:VTIMEZONE
BEGIN:VEVENT
DTSTART;TZID=UTC:20231217T130000
DTEND;TZID=UTC:20231217T163000
DTSTAMP:20260422T143927
CREATED:20231204T065419Z
LAST-MODIFIED:20231204T065422Z
UID:30958-1702818000-1702830600@the-leros-way.com
SUMMARY:Live Music - Fundraising by Women without boarders
DESCRIPTION:Live Music – Fundraising by Women Without boarders
URL:https://the-leros-way.com/event/live-music-fundraising-by-women-without-boarders/
LOCATION:Artemis Restaurant\, Artemis Taverna\, Blefoutis\, Greece
CATEGORIES:Charity Event,Dance Party
ATTACH;FMTTYPE=image/jpeg:https://the-leros-way.com/wp-content/uploads/2023/12/Blefouti3.jpg
END:VEVENT
END:VCALENDAR