BEGIN:VCALENDAR
VERSION:2.0
PRODID:-//The Leros Way - ECPv6.15.20//NONSGML v1.0//EN
CALSCALE:GREGORIAN
METHOD:PUBLISH
X-WR-CALNAME:The Leros Way
X-ORIGINAL-URL:https://the-leros-way.com
X-WR-CALDESC:Events for The Leros Way
REFRESH-INTERVAL;VALUE=DURATION:PT1H
X-Robots-Tag:noindex
X-PUBLISHED-TTL:PT1H
BEGIN:VTIMEZONE
TZID:UTC
BEGIN:STANDARD
TZOFFSETFROM:+0000
TZOFFSETTO:+0000
TZNAME:UTC
DTSTART:20230101T000000
END:STANDARD
END:VTIMEZONE
BEGIN:VEVENT
DTSTART;TZID=UTC:20241006T110000
DTEND;TZID=UTC:20241006T120000
DTSTAMP:20260425T225911
CREATED:20240923T094228Z
LAST-MODIFIED:20240923T094230Z
UID:43438-1728212400-1728216000@the-leros-way.com
SUMMARY:Let’s walk together with our dogs and support our local strays!
DESCRIPTION:???? Register at the link below to join us for a walk with your dog: [https://docs.google.com/forms/d/e/1FAIpQLScuSy_YHOYVY82tuSlvwlFMR0WBOkdS_ch-gZCUA7bA3J8fhw/viewform](https://docs.google.com/forms/d/e/1FAIpQLScuSy_YHOYVY82tuSlvwlFMR0WBOkdS_ch-gZCUA7bA3J8fhw/viewform) \n???? For each participant\, ELVIZ SA will donate 10 kg of dog food to support the stray animals of our municipality\, hosted by the Animal Welfare Association of Leros. \n???? Sunday\, October 6th\, at 11:00 AM\, outside the Lakki Municipal Cinema. \n????️ IMPORTANT: Each participant may walk with only one dog! \n✔️ After registering\, you will receive a confirmation within 24 hours on the mobile number you provided. \n☎️ If you do not receive a message\, please contact Vasso Evangelou at 22470 28014. \n???? Let’s walk together and support our local strays!
URL:https://the-leros-way.com/event/lets-walk-together-with-our-dogs-and-support-our-local-strays/
LOCATION:Leros Cinema\, Municipal Cinema Leros\, Leros\, 85400\, Greece
CATEGORIES:Special Event
ATTACH;FMTTYPE=image/jpeg:https://the-leros-way.com/wp-content/uploads/2024/09/c428925f-9707-4d3e-a6a0-000aa9026c8f.jpeg
ORGANIZER;CN="Leros Municipality":MAILTO:info@dopaisap.gr
END:VEVENT
END:VCALENDAR