BEGIN:VCALENDAR
VERSION:2.0
PRODID:-//The Leros Way - ECPv6.15.13.1//NONSGML v1.0//EN
CALSCALE:GREGORIAN
METHOD:PUBLISH
X-WR-CALNAME:The Leros Way
X-ORIGINAL-URL:https://the-leros-way.com
X-WR-CALDESC:Events for The Leros Way
REFRESH-INTERVAL;VALUE=DURATION:PT1H
X-Robots-Tag:noindex
X-PUBLISHED-TTL:PT1H
BEGIN:VTIMEZONE
TZID:UTC
BEGIN:STANDARD
TZOFFSETFROM:+0000
TZOFFSETTO:+0000
TZNAME:UTC
DTSTART:20240101T000000
END:STANDARD
END:VTIMEZONE
BEGIN:VEVENT
DTSTART;TZID=UTC:20250801T210000
DTEND;TZID=UTC:20250802T210000
DTSTAMP:20260420T081627
CREATED:20250527T134512Z
LAST-MODIFIED:20250801T113056Z
UID:48058-1754082000-1754168400@the-leros-way.com
SUMMARY:A music-theatrical performance: GREETINGS TO THE PLANE TREE
DESCRIPTION:Friday & Saturday\, August 1 & 2\, 9:00 PM\, Agia Marina Primary School \n“Greetings to the Plane Tree”A music and dance performance.The performance takes us back to the 1950s\, to the village squares of our homeland.
URL:https://the-leros-way.com/event/greetings-to-the-plane-tree/
LOCATION:Agia Marina Elementary School\, «ΝΙΚΟΛΑΪΔΕΙΟ» ΔΗΜΟΤΙΚΟ ΣΧΟΛΕΙΟ ΑΓΙΑΣ ΜΑΡΙΝΑΣ ΛΕΡΟΥ\, Leros\, 85400\, Greece
CATEGORIES:Artemis Centre for Culture,Dancing Show,Leros Theater Group,Music
ATTACH;FMTTYPE=image/webp:https://the-leros-way.com/wp-content/uploads/2025/06/13934832_1123087421104003_5290922554841556939_n-1170x570-1.webp
END:VEVENT
END:VCALENDAR