BEGIN:VCALENDAR
VERSION:2.0
PRODID:-//The Leros Way - ECPv6.15.20//NONSGML v1.0//EN
CALSCALE:GREGORIAN
METHOD:PUBLISH
X-WR-CALNAME:The Leros Way
X-ORIGINAL-URL:https://the-leros-way.com
X-WR-CALDESC:Events for The Leros Way
REFRESH-INTERVAL;VALUE=DURATION:PT1H
X-Robots-Tag:noindex
X-PUBLISHED-TTL:PT1H
BEGIN:VTIMEZONE
TZID:UTC
BEGIN:STANDARD
TZOFFSETFROM:+0000
TZOFFSETTO:+0000
TZNAME:UTC
DTSTART:20240101T000000
END:STANDARD
END:VTIMEZONE
BEGIN:VEVENT
DTSTART;TZID=UTC:20250425T091500
DTEND;TZID=UTC:20250425T163000
DTSTAMP:20260424T135155
CREATED:20250424T061408Z
LAST-MODIFIED:20250424T061643Z
UID:46777-1745572500-1745598600@the-leros-way.com
SUMMARY:Dodecanese Interclub Championship 2025
DESCRIPTION:LEROS – XEROKAMPOS STADIUMFRIDAY\, APRIL 25\, 2025Start Time: Morning 09:15 | Afternoon 16:30 \nAfter many years\, the INTERCLUB CHAMPIONSHIP returns to our island!A major athletic event for U18 (Men – Women) and U14 of the 2nd Dodecanese Group! \n Let’s all come together to support our local athletes and cheer on young talents from across our islands! \nWe’re looking forward to seeing you there! \nOrganized by: EAS SEGAS DODECANESE With the support of: Municipality of Leros | South Aegean Region Sponsors: Blue Star Ferries | Dodekanisos Seaways
URL:https://the-leros-way.com/event/dodecanese-interclub-championship-2025/
LOCATION:Xirokampos Open Stadium\, 4V58+JH Xirokampos\, Leros\, 85400\, Greece
CATEGORIES:Special Event,Sport
ATTACH;FMTTYPE=image/webp:https://the-leros-way.com/wp-content/uploads/2025/04/490028437_1340910556997576_3483219478315986947_n.webp
ORGANIZER;CN="Leros Municipality":MAILTO:info@dopaisap.gr
END:VEVENT
END:VCALENDAR