BEGIN:VCALENDAR
VERSION:2.0
PRODID:-//The Leros Way - ECPv6.15.20//NONSGML v1.0//EN
CALSCALE:GREGORIAN
METHOD:PUBLISH
X-WR-CALNAME:The Leros Way
X-ORIGINAL-URL:https://the-leros-way.com
X-WR-CALDESC:Events for The Leros Way
REFRESH-INTERVAL;VALUE=DURATION:PT1H
X-Robots-Tag:noindex
X-PUBLISHED-TTL:PT1H
BEGIN:VTIMEZONE
TZID:UTC
BEGIN:STANDARD
TZOFFSETFROM:+0000
TZOFFSETTO:+0000
TZNAME:UTC
DTSTART:20240101T000000
END:STANDARD
END:VTIMEZONE
BEGIN:VEVENT
DTSTART;TZID=UTC:20251019T193000
DTEND;TZID=UTC:20251019T223000
DTSTAMP:20260423T145402
CREATED:20251014T064259Z
LAST-MODIFIED:20251014T064332Z
UID:50255-1760902200-1760913000@the-leros-way.com
SUMMARY:DINNER IN HONOR
DESCRIPTION:The Leros Historical Society invites you to its 1st event\, held in honor of Giannis Paraponiaris \nDuring the event\, the short documentary “ADRIAS – They Were All Heroes”\, by Ioanna Asmeniadou-Foka\, will be screened for the first time\, based on the book of the same title by Margarita Pournara. \nAdmission: €50 (includes dinner & drink)Proceeds will go toward the creation of a digital archive repository aimed at preserving Leros’s historical records. \nRSVP by Wednesday\, October 156932218470 | info@leroshistoricalsociety.org
URL:https://the-leros-way.com/event/dinner-in-honor/
LOCATION:Paradisos All Day Restaurant\, Paradisos Beach Bar\, Leros\, 85400\, Greece
CATEGORIES:Charity Event,Special Event
ATTACH;FMTTYPE=image/webp:https://the-leros-way.com/wp-content/uploads/2025/10/560427663_10237545686966361_2804863748364374837_n.webp
ORGANIZER;CN="Leros Historical Society":MAILTO:info@leroshistoricalsociety.org
END:VEVENT
END:VCALENDAR