BEGIN:VCALENDAR
VERSION:2.0
PRODID:-//The Leros Way - ECPv6.15.13.1//NONSGML v1.0//EN
CALSCALE:GREGORIAN
METHOD:PUBLISH
X-WR-CALNAME:The Leros Way
X-ORIGINAL-URL:https://the-leros-way.com
X-WR-CALDESC:Events for The Leros Way
REFRESH-INTERVAL;VALUE=DURATION:PT1H
X-Robots-Tag:noindex
X-PUBLISHED-TTL:PT1H
BEGIN:VTIMEZONE
TZID:UTC
BEGIN:STANDARD
TZOFFSETFROM:+0000
TZOFFSETTO:+0000
TZNAME:UTC
DTSTART:20230101T000000
END:STANDARD
END:VTIMEZONE
BEGIN:VEVENT
DTSTART;TZID=UTC:20240421T103000
DTEND;TZID=UTC:20240421T140000
DTSTAMP:20260422T112241
CREATED:20240403T055854Z
LAST-MODIFIED:20240420T045045Z
UID:33504-1713695400-1713708000@the-leros-way.com
SUMMARY:Cleaning the beaches (Gourna beach )
DESCRIPTION:We clean the beaches in April \nSunday  morning 21/04  11:00 \nGourna Beach \nWith Tennis association Iones
URL:https://the-leros-way.com/event/cleaning-the-beaches-gourna-beach/
LOCATION:Gourna Beach\, Gourna Beach\, Leros\, 85400\, Greece
CATEGORIES:Special Event
ORGANIZER;CN="The Leros Way":MAILTO:info@the-leros-way.com
END:VEVENT
END:VCALENDAR