BEGIN:VCALENDAR
VERSION:2.0
PRODID:-//The Leros Way - ECPv6.15.13.1//NONSGML v1.0//EN
CALSCALE:GREGORIAN
METHOD:PUBLISH
X-WR-CALNAME:The Leros Way
X-ORIGINAL-URL:https://the-leros-way.com
X-WR-CALDESC:Events for The Leros Way
REFRESH-INTERVAL;VALUE=DURATION:PT1H
X-Robots-Tag:noindex
X-PUBLISHED-TTL:PT1H
BEGIN:VTIMEZONE
TZID:UTC
BEGIN:STANDARD
TZOFFSETFROM:+0000
TZOFFSETTO:+0000
TZNAME:UTC
DTSTART:20220101T000000
END:STANDARD
END:VTIMEZONE
BEGIN:VEVENT
DTSTART;TZID=UTC:20231202T070000
DTEND;TZID=UTC:20231202T170000
DTSTAMP:20260420T092353
CREATED:20231103T030306Z
LAST-MODIFIED:20231103T030310Z
UID:29687-1701500400-1701536400@the-leros-way.com
SUMMARY:Christmas bazaar - Your purchases will aid families in need
DESCRIPTION:Christmas bazaar – Your purchases will aid families in need
URL:https://the-leros-way.com/event/christmas-bazaar-your-purchases-will-aid-families-in-need/
LOCATION:Agia Eirini Church\, Drimonas\, Αγία Ειρήνη Χρυσοβαλάντου\, Leros\, 85400\, Greece
CATEGORIES:Charity Event
ATTACH;FMTTYPE=image/webp:https://the-leros-way.com/wp-content/uploads/2023/11/Dec-2.webp
END:VEVENT
END:VCALENDAR