BEGIN:VCALENDAR
VERSION:2.0
PRODID:-//The Leros Way - ECPv6.15.13.1//NONSGML v1.0//EN
CALSCALE:GREGORIAN
METHOD:PUBLISH
X-WR-CALNAME:The Leros Way
X-ORIGINAL-URL:https://the-leros-way.com
X-WR-CALDESC:Events for The Leros Way
REFRESH-INTERVAL;VALUE=DURATION:PT1H
X-Robots-Tag:noindex
X-PUBLISHED-TTL:PT1H
BEGIN:VTIMEZONE
TZID:UTC
BEGIN:STANDARD
TZOFFSETFROM:+0000
TZOFFSETTO:+0000
TZNAME:UTC
DTSTART:20240101T000000
END:STANDARD
END:VTIMEZONE
BEGIN:VEVENT
DTSTART;TZID=UTC:20250618T190000
DTEND;TZID=UTC:20250618T213000
DTSTAMP:20260419T134757
CREATED:20240613T102952Z
LAST-MODIFIED:20250613T120932Z
UID:41155-1750273200-1750282200@the-leros-way.com
SUMMARY:Book presentation of Marisa Andalò
DESCRIPTION:Marisa Andalò will present her book “Il tarlo del male” \nFree entrance
URL:https://the-leros-way.com/event/book-presentation-andalo/
LOCATION:Municipal Library\, Δημόσια Βιβλιοθήκη Λέρου\, Leros\, 85400\, Greece
CATEGORIES:Book Launch,Special Event
ORGANIZER;CN="Greek-Italian Association of Friends of Leros %E2%80%9CAIAL%E2%80%9D":MAILTO:petrokaravo@yahoo.it
END:VEVENT
END:VCALENDAR