BEGIN:VCALENDAR
VERSION:2.0
PRODID:-//The Leros Way - ECPv6.15.13.1//NONSGML v1.0//EN
CALSCALE:GREGORIAN
METHOD:PUBLISH
X-WR-CALNAME:The Leros Way
X-ORIGINAL-URL:https://the-leros-way.com
X-WR-CALDESC:Events for The Leros Way
REFRESH-INTERVAL;VALUE=DURATION:PT1H
X-Robots-Tag:noindex
X-PUBLISHED-TTL:PT1H
BEGIN:VTIMEZONE
TZID:UTC
BEGIN:STANDARD
TZOFFSETFROM:+0000
TZOFFSETTO:+0000
TZNAME:UTC
DTSTART:20240101T000000
END:STANDARD
END:VTIMEZONE
BEGIN:VEVENT
DTSTART;TZID=UTC:20250106T103000
DTEND;TZID=UTC:20250106T110000
DTSTAMP:20260421T010517
CREATED:20241230T083512Z
LAST-MODIFIED:20241230T083513Z
UID:45055-1736159400-1736161200@the-leros-way.com
SUMMARY:Blessing of the Waters and the throwing of the Holy Cross
DESCRIPTION:ANNOUNCEMENT \nOn January 6th\, the Feast of the Epiphany\, the ceremony of the Blessing of the Waters and the throwing of the Holy Cross will take place at the following locations: \n\nAgia Marina\nLakki\nXirokampos\nAlinda\nDrymonas\n\nThe ceremony is scheduled to begin at approximately 10:45 a.m.. \n 
URL:https://the-leros-way.com/event/blessing-of-the-waters-and-the-throwing-of-the-holy-cross/
LOCATION:LEROS\, Katafigio Agrias Zois Koulouki - Merikia - Fitorio\, Ag. Marina\, Greece\, 854 00\, Greece
CATEGORIES:Special Event
ATTACH;FMTTYPE=image/webp:https://the-leros-way.com/wp-content/uploads/2024/12/viber_image_2024-12-30_10-12-39-171.webp
ORGANIZER;CN="Leros Municipality":MAILTO:info@dopaisap.gr
END:VEVENT
END:VCALENDAR