BEGIN:VCALENDAR
VERSION:2.0
PRODID:-//The Leros Way - ECPv6.15.13.1//NONSGML v1.0//EN
CALSCALE:GREGORIAN
METHOD:PUBLISH
X-WR-CALNAME:The Leros Way
X-ORIGINAL-URL:https://the-leros-way.com
X-WR-CALDESC:Events for The Leros Way
REFRESH-INTERVAL;VALUE=DURATION:PT1H
X-Robots-Tag:noindex
X-PUBLISHED-TTL:PT1H
BEGIN:VTIMEZONE
TZID:UTC
BEGIN:STANDARD
TZOFFSETFROM:+0000
TZOFFSETTO:+0000
TZNAME:UTC
DTSTART:20230101T000000
END:STANDARD
END:VTIMEZONE
BEGIN:VEVENT
DTSTART;VALUE=DATE:20240526
DTEND;VALUE=DATE:20240527
DTSTAMP:20260422T111533
CREATED:20240510T142032Z
LAST-MODIFIED:20240515T065038Z
UID:34713-1716681600-1716767999@the-leros-way.com
SUMMARY:BBQ FESTIVAL
DESCRIPTION:26/05/2024 \nAt Merikia 13:00-21:00 \nOrganized by Hellenic Barbeque Team
URL:https://the-leros-way.com/event/bbq-festival/
LOCATION:Merikia beach\, leros\, 85400
CATEGORIES:Special Event
ORGANIZER;CN="Leros Municipality":MAILTO:info@dopaisap.gr
END:VEVENT
END:VCALENDAR