BEGIN:VCALENDAR
VERSION:2.0
PRODID:-//The Leros Way - ECPv6.15.13.1//NONSGML v1.0//EN
CALSCALE:GREGORIAN
METHOD:PUBLISH
X-WR-CALNAME:The Leros Way
X-ORIGINAL-URL:https://the-leros-way.com
X-WR-CALDESC:Events for The Leros Way
REFRESH-INTERVAL;VALUE=DURATION:PT1H
X-Robots-Tag:noindex
X-PUBLISHED-TTL:PT1H
BEGIN:VTIMEZONE
TZID:UTC
BEGIN:STANDARD
TZOFFSETFROM:+0000
TZOFFSETTO:+0000
TZNAME:UTC
DTSTART:20240101T000000
END:STANDARD
END:VTIMEZONE
BEGIN:VEVENT
DTSTART;TZID=UTC:20250907T190000
DTEND;TZID=UTC:20250907T210000
DTSTAMP:20260421T101947
CREATED:20250903T085120Z
LAST-MODIFIED:20250903T092634Z
UID:49937-1757271600-1757278800@the-leros-way.com
SUMMARY:Ancestral Greek Dance – A Call from the Soul
DESCRIPTION:Full moon total Eclipses \nWith Irini\, from the island of Leros \nJoin us for a unique experience through the traditional dances of Greece! \nFrom the depths of antiquity\, when human beings danced to communicate with the Divine\, to the heart of Greek tradition and today’s joyful celebrations: dance unites us\, uplifts us\, and fills us with life. \nWe invite you to a sacred and mixed circle\, where movement becomes prayer\, rhythm becomes a bridge\, and the soul expresses its deepest longing. \nWe remember with the body.\nWe honor the history\, mythology\, and living heritage of the islands.\nWe dress in the colors of the sea\, in skirts that dance with the wind. \nDuration: 2 hours\nVoluntary contribution\nIMPORTANT TO CONFIRM YOUR PARTICIPATION \nWith love and respect\, we look forward to sharing music\, rhythm\, and the joy of community. \nContact at:\n@irinis.thai.massage\n+30 6941403591
URL:https://the-leros-way.com/event/ancestral-greek-dance-a-call-from-the-soul/
LOCATION:Yoga Roof\, Villa Tourkopigado\, Leros\, Greece
CATEGORIES:Experience,Special Event
ATTACH;FMTTYPE=image/webp:https://the-leros-way.com/wp-content/uploads/2025/09/WhatsApp-Image-2025-09-03-at-11.43.16_1b0a51d6.webp
END:VEVENT
END:VCALENDAR