BEGIN:VCALENDAR
VERSION:2.0
PRODID:-//The Leros Way - ECPv6.15.13.1//NONSGML v1.0//EN
CALSCALE:GREGORIAN
METHOD:PUBLISH
X-WR-CALNAME:The Leros Way
X-ORIGINAL-URL:https://the-leros-way.com
X-WR-CALDESC:Events for The Leros Way
REFRESH-INTERVAL;VALUE=DURATION:PT1H
X-Robots-Tag:noindex
X-PUBLISHED-TTL:PT1H
BEGIN:VTIMEZONE
TZID:UTC
BEGIN:STANDARD
TZOFFSETFROM:+0000
TZOFFSETTO:+0000
TZNAME:UTC
DTSTART:20230101T000000
END:STANDARD
END:VTIMEZONE
BEGIN:VEVENT
DTSTART;TZID=UTC:20241102T210000
DTEND;TZID=UTC:20241130T210000
DTSTAMP:20260422T034424
CREATED:20241029T092023Z
LAST-MODIFIED:20241031T072342Z
UID:43824-1730581200-1733000400@the-leros-way.com
SUMMARY:12th Italian Film Festival in Leros
DESCRIPTION:This year’s 12th festival A month with Italian cinema presents in Leros\, with the cooperation of the Municipality\, five films belonging to the 10th traveling tribute 2024 which travels to 22 parts of Greece with the coordination of AIAL and the support of the Italian Education Institute of Athens.\nThe films\, with Greek subtitles\, will be shown at the Municipal Theater of Lakki from November 2 to 30 every Saturday at 9 pm with free admission. The festival will be completed by Fellini’s cult movie Sweet Life \, a tribute to Mastroiannis for the 100th anniversary of his birth.\nYou can find the calendar here \, as well as more information with trailers and a summary of the films on the relevant page of the website (click above the flag for automatic translation into Greek).\nfriendly greetings! \n 
URL:https://the-leros-way.com/event/12th-italian-film-festival-in-leros/
LOCATION:Leros Cinema\, Municipal Cinema Leros\, Leros\, 85400\, Greece
CATEGORIES:Leros Cinema
ATTACH;FMTTYPE=image/webp:https://the-leros-way.com/wp-content/uploads/2024/10/bec6ba94-8a8a-ed4a-0d0b-3ad9a54e6f57.webp
ORGANIZER;CN="Greek-Italian Association of Friends of Leros %E2%80%9CAIAL%E2%80%9D":MAILTO:petrokaravo@yahoo.it
END:VEVENT
END:VCALENDAR