BEGIN:VCALENDAR
VERSION:2.0
PRODID:-//The Leros Way - ECPv6.15.20//NONSGML v1.0//EN
CALSCALE:GREGORIAN
METHOD:PUBLISH
X-WR-CALNAME:The Leros Way
X-ORIGINAL-URL:https://the-leros-way.com
X-WR-CALDESC:Events for The Leros Way
REFRESH-INTERVAL;VALUE=DURATION:PT1H
X-Robots-Tag:noindex
X-PUBLISHED-TTL:PT1H
BEGIN:VTIMEZONE
TZID:UTC
BEGIN:STANDARD
TZOFFSETFROM:+0000
TZOFFSETTO:+0000
TZNAME:UTC
DTSTART:20230101T000000
END:STANDARD
END:VTIMEZONE
BEGIN:VEVENT
DTSTART;TZID=UTC:20241031T211500
DTEND;TZID=UTC:20241106T230000
DTSTAMP:20260423T151141
CREATED:20241031T070752Z
LAST-MODIFIED:20241031T070754Z
UID:43841-1730409300-1730934000@the-leros-way.com
SUMMARY:Τhe Movie of the Week: "Τhe Substance"
DESCRIPTION:Thursday 31/10 till  Wednesday  6/11 \nTHE SUBSTANCE: Every day except Saturday 21:15
URL:https://the-leros-way.com/event/%cf%84he-movie-of-the-week-%cf%84he-substance/
LOCATION:Leros Cinema\, Municipal Cinema Leros\, Leros\, 85400\, Greece
CATEGORIES:Movie
ATTACH;FMTTYPE=image/jpeg:https://the-leros-way.com/wp-content/uploads/2024/10/bac5a3a5-3b23-4a4d-9784-a61fed03e007.jpeg
ORGANIZER;CN="Leros Municipality":MAILTO:info@dopaisap.gr
END:VEVENT
END:VCALENDAR