BEGIN:VCALENDAR
VERSION:2.0
PRODID:-//The Leros Way - ECPv6.15.20//NONSGML v1.0//EN
CALSCALE:GREGORIAN
METHOD:PUBLISH
X-WR-CALNAME:The Leros Way
X-ORIGINAL-URL:https://the-leros-way.com
X-WR-CALDESC:Events for The Leros Way
REFRESH-INTERVAL;VALUE=DURATION:PT1H
X-Robots-Tag:noindex
X-PUBLISHED-TTL:PT1H
BEGIN:VTIMEZONE
TZID:UTC
BEGIN:STANDARD
TZOFFSETFROM:+0000
TZOFFSETTO:+0000
TZNAME:UTC
DTSTART:20230101T000000
END:STANDARD
END:VTIMEZONE
BEGIN:VEVENT
DTSTART;TZID=UTC:20240726T080000
DTEND;TZID=UTC:20240731T170000
DTSTAMP:20260424T111919
CREATED:20240726T061914Z
LAST-MODIFIED:20240726T061917Z
UID:42486-1721980800-1722445200@the-leros-way.com
SUMMARY:Τhe Movie of the Week: "Α Journey For Ducks"
DESCRIPTION:Friday till Sunday 20:30 (Translated in Greek)
URL:https://the-leros-way.com/event/%cf%84he-movie-of-the-week-%ce%b1-journey-for-ducks/
LOCATION:Leros Cinema\, Municipal Cinema Leros\, Leros\, 85400\, Greece
CATEGORIES:Movie
ATTACH;FMTTYPE=image/jpeg:https://the-leros-way.com/wp-content/uploads/2024/07/fafcb97a7bc5453a9e08111a87ad7d4f.jpg
ORGANIZER;CN="Cine Leros":MAILTO:leros-cinema@leros.gr
END:VEVENT
END:VCALENDAR