BEGIN:VCALENDAR
VERSION:2.0
PRODID:-//The Leros Way - ECPv6.15.13.1//NONSGML v1.0//EN
CALSCALE:GREGORIAN
METHOD:PUBLISH
X-WR-CALNAME:The Leros Way
X-ORIGINAL-URL:https://the-leros-way.com/el/
X-WR-CALDESC:Events for The Leros Way
REFRESH-INTERVAL;VALUE=DURATION:PT1H
X-Robots-Tag:noindex
X-PUBLISHED-TTL:PT1H
BEGIN:VTIMEZONE
TZID:UTC
BEGIN:STANDARD
TZOFFSETFROM:+0000
TZOFFSETTO:+0000
TZNAME:UTC
DTSTART:20230101T000000
END:STANDARD
END:VTIMEZONE
BEGIN:VEVENT
DTSTART;TZID=UTC:20240418T193000
DTEND;TZID=UTC:20240424T230000
DTSTAMP:20260423T005510
CREATED:20240416T125955Z
LAST-MODIFIED:20240416T130949Z
UID:34009-1713468600-1713999600@the-leros-way.com
SUMMARY:Tαινία της Εβδομάδας: Ghostbusters
DESCRIPTION:Πέμπτη-Σάββατο-Δευτέρα-Τετάρτη 19:30 \nΠαρασκευή-Τρίτη-Κυριακή 21:30
URL:https://the-leros-way.com/el/event/t%ce%b1%ce%b9%ce%bd%ce%af%ce%b1-%cf%84%ce%b7%cf%82-%ce%b5%ce%b2%ce%b4%ce%bf%ce%bc%ce%ac%ce%b4%ce%b1%cf%82-ghostbusters/
LOCATION:Leros Cinema\, Municipal Cinema Leros\, Leros\, 85400\, Greece
CATEGORIES:Σινεμά
ATTACH;FMTTYPE=image/jpeg:https://the-leros-way.com/wp-content/uploads/2024/04/MV5BNGE5MWJmZWYtN2ZlMi00ZjY1LTlhYTUtMzQ2Y2IxZWQyYTA2XkEyXkFqcGdeQXVyMTUzMTg2ODkz._V1_FMjpg_UX1000_-1.jpg
ORGANIZER;CN="Cine Leros":MAILTO:leros-cinema@leros.gr
END:VEVENT
END:VCALENDAR