BEGIN:VCALENDAR
VERSION:2.0
PRODID:-//The Leros Way - ECPv6.15.13.1//NONSGML v1.0//EN
CALSCALE:GREGORIAN
METHOD:PUBLISH
X-WR-CALNAME:The Leros Way
X-ORIGINAL-URL:https://the-leros-way.com/el/
X-WR-CALDESC:Events for The Leros Way
REFRESH-INTERVAL;VALUE=DURATION:PT1H
X-Robots-Tag:noindex
X-PUBLISHED-TTL:PT1H
BEGIN:VTIMEZONE
TZID:UTC
BEGIN:STANDARD
TZOFFSETFROM:+0000
TZOFFSETTO:+0000
TZNAME:UTC
DTSTART:20230101T000000
END:STANDARD
END:VTIMEZONE
BEGIN:VEVENT
DTSTART;TZID=UTC:20240416T183000
DTEND;TZID=UTC:20240416T203000
DTSTAMP:20260422T143921
CREATED:20240412T055528Z
LAST-MODIFIED:20240412T055528Z
UID:33940-1713292200-1713299400@the-leros-way.com
SUMMARY:Koυκλοθέατρο: Ο Ψαροτρομάρας
DESCRIPTION:Τρίτη 16/04/2024 ώρα 18:30 \nΚινητό 6977987248 \nΕίσοδος : 7€
URL:https://the-leros-way.com/el/event/ko%cf%85%ce%ba%ce%bb%ce%bf%ce%b8%ce%ad%ce%b1%cf%84%cf%81%ce%bf-%ce%bf-%cf%88%ce%b1%cf%81%ce%bf%cf%84%cf%81%ce%bf%ce%bc%ce%ac%cf%81%ce%b1%cf%82/
LOCATION:Leros Cinema\, Municipal Cinema Leros\, Leros\, 85400\, Greece
ATTACH;FMTTYPE=image/jpeg:https://the-leros-way.com/wp-content/uploads/2024/04/437606940_1136313957771651_6435704961178655705_n-1.jpg
ORGANIZER;CN="Cine Leros":MAILTO:leros-cinema@leros.gr
END:VEVENT
END:VCALENDAR