BEGIN:VCALENDAR
VERSION:2.0
PRODID:-//The Leros Way - ECPv6.15.20//NONSGML v1.0//EN
CALSCALE:GREGORIAN
METHOD:PUBLISH
X-WR-CALNAME:The Leros Way
X-ORIGINAL-URL:https://the-leros-way.com/el/
X-WR-CALDESC:Events for The Leros Way
REFRESH-INTERVAL;VALUE=DURATION:PT1H
X-Robots-Tag:noindex
X-PUBLISHED-TTL:PT1H
BEGIN:VTIMEZONE
TZID:UTC
BEGIN:STANDARD
TZOFFSETFROM:+0000
TZOFFSETTO:+0000
TZNAME:UTC
DTSTART:20230101T000000
END:STANDARD
END:VTIMEZONE
BEGIN:VEVENT
DTSTART;TZID=UTC:20240726T211500
DTEND;TZID=UTC:20240731T233000
DTSTAMP:20260424T141845
CREATED:20240726T060720Z
LAST-MODIFIED:20240726T060720Z
UID:42485-1722028500-1722468600@the-leros-way.com
SUMMARY:H Tαινία της Εβδομάδας: "Τwisters"
DESCRIPTION:Παρασκεύη έως Κυριακή: 22:00 Δευτέρα έως Τετάρτη: 21:15
URL:https://the-leros-way.com/el/event/h-t%ce%b1%ce%b9%ce%bd%ce%af%ce%b1-%cf%84%ce%b7%cf%82-%ce%b5%ce%b2%ce%b4%ce%bf%ce%bc%ce%ac%ce%b4%ce%b1%cf%82-%cf%84wisters/
LOCATION:Leros Cinema\, Municipal Cinema Leros\, Leros\, 85400\, Greece
ATTACH;FMTTYPE=image/jpeg:https://the-leros-way.com/wp-content/uploads/2024/07/b8387edb-e80f-4bd5-866c-c415e3be9c51.jpeg
ORGANIZER;CN="Cine Leros":MAILTO:leros-cinema@leros.gr
END:VEVENT
END:VCALENDAR