BEGIN:VCALENDAR
VERSION:2.0
PRODID:-//The Leros Way - ECPv6.15.13.1//NONSGML v1.0//EN
CALSCALE:GREGORIAN
METHOD:PUBLISH
X-WR-CALNAME:The Leros Way
X-ORIGINAL-URL:https://the-leros-way.com/el/
X-WR-CALDESC:Events for The Leros Way
REFRESH-INTERVAL;VALUE=DURATION:PT1H
X-Robots-Tag:noindex
X-PUBLISHED-TTL:PT1H
BEGIN:VTIMEZONE
TZID:UTC
BEGIN:STANDARD
TZOFFSETFROM:+0000
TZOFFSETTO:+0000
TZNAME:UTC
DTSTART:20240101T000000
END:STANDARD
END:VTIMEZONE
BEGIN:VEVENT
DTSTART;TZID=UTC:20250417T191500
DTEND;TZID=UTC:20250423T211500
DTSTAMP:20260419T191051
CREATED:20250417T064027Z
LAST-MODIFIED:20250417T064027Z
UID:46706-1744917300-1745442900@the-leros-way.com
SUMMARY:H Tαινία της Εβδομάδας: " Οι Αμαρτωλοί"
DESCRIPTION:Καθημερινά εκτός Μ. Παρασκευή 19:15-21:30 \nΤετάρτη 23/04 μόνο 21:15
URL:https://the-leros-way.com/el/event/h-t%ce%b1%ce%b9%ce%bd%ce%af%ce%b1-%cf%84%ce%b7%cf%82-%ce%b5%ce%b2%ce%b4%ce%bf%ce%bc%ce%ac%ce%b4%ce%b1%cf%82-%ce%bf%ce%b9-%ce%b1%ce%bc%ce%b1%cf%81%cf%84%cf%89%ce%bb%ce%bf%ce%af/
LOCATION:Navarone Estate\, Navarone\, Leros\, Dodecanese\, 85400\, Greece
CATEGORIES:Movie
ATTACH;FMTTYPE=image/webp:https://the-leros-way.com/wp-content/uploads/2025/04/acff6066-38dc-4416-a96d-bc9ef97d12db-1.webp
END:VEVENT
END:VCALENDAR