BEGIN:VCALENDAR
VERSION:2.0
PRODID:-//The Leros Way - ECPv6.15.13.1//NONSGML v1.0//EN
CALSCALE:GREGORIAN
METHOD:PUBLISH
X-WR-CALNAME:The Leros Way
X-ORIGINAL-URL:https://the-leros-way.com/el/
X-WR-CALDESC:Events for The Leros Way
REFRESH-INTERVAL;VALUE=DURATION:PT1H
X-Robots-Tag:noindex
X-PUBLISHED-TTL:PT1H
BEGIN:VTIMEZONE
TZID:UTC
BEGIN:STANDARD
TZOFFSETFROM:+0000
TZOFFSETTO:+0000
TZNAME:UTC
DTSTART:20230101T000000
END:STANDARD
END:VTIMEZONE
BEGIN:VEVENT
DTSTART;TZID=UTC:20240418T180000
DTEND;TZID=UTC:20240424T193000
DTSTAMP:20260422T203943
CREATED:20240416T131417Z
LAST-MODIFIED:20240416T131725Z
UID:34021-1713463200-1713987000@the-leros-way.com
SUMMARY:H Ταινία της Εβδομάδας: Κung Fu Panda 4
DESCRIPTION:Kαθημερινά στις 18:00
URL:https://the-leros-way.com/el/event/h-%cf%84%ce%b1%ce%b9%ce%bd%ce%af%ce%b1-%cf%84%ce%b7%cf%82-%ce%b5%ce%b2%ce%b4%ce%bf%ce%bc%ce%ac%ce%b4%ce%b1%cf%82-%ce%baung-fu-panda-4/
LOCATION:Leros Cinema\, Municipal Cinema Leros\, Leros\, 85400\, Greece
CATEGORIES:Σινεμά
ATTACH;FMTTYPE=image/jpeg:https://the-leros-way.com/wp-content/uploads/2024/04/FurkGE4X0AAn_lm.jpeg
ORGANIZER;CN="Cine Leros":MAILTO:leros-cinema@leros.gr
END:VEVENT
END:VCALENDAR