BEGIN:VCALENDAR
VERSION:2.0
PRODID:-//The Leros Way - ECPv6.15.13.1//NONSGML v1.0//EN
CALSCALE:GREGORIAN
METHOD:PUBLISH
X-WR-CALNAME:The Leros Way
X-ORIGINAL-URL:https://the-leros-way.com/el/
X-WR-CALDESC:Events for The Leros Way
REFRESH-INTERVAL;VALUE=DURATION:PT1H
X-Robots-Tag:noindex
X-PUBLISHED-TTL:PT1H
BEGIN:VTIMEZONE
TZID:UTC
BEGIN:STANDARD
TZOFFSETFROM:+0000
TZOFFSETTO:+0000
TZNAME:UTC
DTSTART:20240101T000000
END:STANDARD
END:VTIMEZONE
BEGIN:VEVENT
DTSTART;TZID=UTC:20250412T210000
DTEND;TZID=UTC:20250412T210000
DTSTAMP:20260422T143623
CREATED:20250411T084335Z
LAST-MODIFIED:20250411T084335Z
UID:46679-1744491600-1744491600@the-leros-way.com
SUMMARY:Funky vibes & fine dining at Navarone!
DESCRIPTION:Το Σάββατο 12 Απριλίου στις 21:00\, ελάτε για ένα μοναδικό Funky Dinner με τον DJ Dimitroulas στα decks! Cocktails\, μουσική και ατμόσφαιρα που θα σας μείνει αξέχαστη!\nΚρατήσεις: 22470 25 074
URL:https://the-leros-way.com/el/event/funky-vibes-fine-dining-at-navarone/
LOCATION:Νavarone Estate\, https://maps.app.goo.gl/9SikDv2qbo2YEFs38\, Leros\, 85400\, Greece
CATEGORIES:άθλημα
ATTACH;FMTTYPE=image/jpeg:https://the-leros-way.com/wp-content/uploads/2025/04/04522c47-a686-4088-9ac6-b84d0e8dfe60.jpeg
END:VEVENT
END:VCALENDAR