BEGIN:VCALENDAR
VERSION:2.0
PRODID:-//The Leros Way - ECPv6.15.13.1//NONSGML v1.0//EN
CALSCALE:GREGORIAN
METHOD:PUBLISH
X-WR-CALNAME:The Leros Way
X-ORIGINAL-URL:https://the-leros-way.com/el/
X-WR-CALDESC:Events for The Leros Way
REFRESH-INTERVAL;VALUE=DURATION:PT1H
X-Robots-Tag:noindex
X-PUBLISHED-TTL:PT1H
BEGIN:VTIMEZONE
TZID:UTC
BEGIN:STANDARD
TZOFFSETFROM:+0000
TZOFFSETTO:+0000
TZNAME:UTC
DTSTART:20230101T000000
END:STANDARD
END:VTIMEZONE
BEGIN:VEVENT
DTSTART;TZID=UTC:20240426T163000
DTEND;TZID=UTC:20240427T210000
DTSTAMP:20260422T203258
CREATED:20240423T051541Z
LAST-MODIFIED:20240423T051541Z
UID:34228-1714149000-1714251600@the-leros-way.com
SUMMARY:FINAL FOUR ΠΑΙΔΩΝ ΣΤΗ ΛΕΡΟ
DESCRIPTION:Ρόδος\, Κως\, Κάλυμνος συναντιούνται στο γήπεδο της Μερικιάς 26/27-04/2024 για να συναγωνιστούν την 1η θέση στο πρωτάθλημα Δωδεκανήσου.
URL:https://the-leros-way.com/el/event/final-four-%cf%80%ce%b1%ce%b9%ce%b4%cf%89%ce%bd-%cf%83%cf%84%ce%b7-%ce%bb%ce%b5%cf%81%ce%bf/
LOCATION:Basketball Court\, Δημοτικό Κλειστό Γυμναστήριο Μερικιάς\, Leros\, 85400\, Greece
CATEGORIES:άθλημα
ATTACH;FMTTYPE=image/jpeg:https://the-leros-way.com/wp-content/uploads/2024/04/viber_image_2024-04-23_07-50-36-572.jpg
END:VEVENT
END:VCALENDAR