BEGIN:VCALENDAR
VERSION:2.0
PRODID:-//The Leros Way - ECPv6.15.13.1//NONSGML v1.0//EN
CALSCALE:GREGORIAN
METHOD:PUBLISH
X-WR-CALNAME:The Leros Way
X-ORIGINAL-URL:https://the-leros-way.com/el/
X-WR-CALDESC:Events for The Leros Way
REFRESH-INTERVAL;VALUE=DURATION:PT1H
X-Robots-Tag:noindex
X-PUBLISHED-TTL:PT1H
BEGIN:VTIMEZONE
TZID:UTC
BEGIN:STANDARD
TZOFFSETFROM:+0000
TZOFFSETTO:+0000
TZNAME:UTC
DTSTART:20240101T000000
END:STANDARD
END:VTIMEZONE
BEGIN:VEVENT
DTSTART;TZID=UTC:20250803T173000
DTEND;TZID=UTC:20250803T210000
DTSTAMP:20260421T080146
CREATED:20240717T170325Z
LAST-MODIFIED:20250723T080330Z
UID:42148-1754242200-1754254800@the-leros-way.com
SUMMARY:Aγώνες Κολύμβησης "Αλίντια"
DESCRIPTION:Κατηγορίες: \nΕλεύθερη κολύμβηση παμπαίδων 50μ. (13-15ετ)\nΚολύμβηση κοριτσιών με σανίδες 50μ. (7-9ετ)\nΚολύμβηση αγοριών με στρώμα θαλάσσης 50μ.( 10-12ετ)\nΚολύμβηση κοριτσιών με στρώμα θαλάσσης 50μ\nΚολύμβηση αγοριών με σανίδες 50μ. (7-9ετ)\n Ελεύθερη κολύμβηση παγκορασίδων 50μ. (13-15ετ)\nΕλεύθερη κολύμβηση παίδων-εφήβων 50μ. (16-18ετ)\nΕλεύθερη κολύμβηση κορασίδων-νεανίδων 50μ. ( 16-18ετ\nΣκυταλοδρομία μεικτή (ομάδες 4 αθλητών ) 16-18ετ\nΑγώνισμα κανό παίδων- εφήβων 15-17ετ\nΕλεύθερη κολύμβηση 100μ. ανδρών (18+)\nΕλεύθερη κολύμβηση 100μ. γυναικών (18+)\nΕλεύθερη κολύμβηση 1 μιλίου (Αγ. Μαρίνα-Άλιντα) \nΕγγραφές μέχρι 1/8/2025 \nΤηλέφωνο επικοινωνίας\n2247022109 \nΔιοργάνωση: Δήμος Λέρου \nΛΕΡΙΑΚΟΣ ΟΜΙΛΟΣ ΣΚΑΦΩΝ\, ΝΑΥΑΓΟΣΩΣΤΙΚΟΣ ΣΥΛΛΟΓΟΣ\, ΓΥΜΝΑΣΤΙΚΟΣ ΣΥΛΛΟΓΟΣ ΝΕΩΝ ΛΕΡΟΥ\, ΟΜΑΔΑ ΕΡΕΥΝΑΣ ΚΑΙ ΔΙΑΣΩΣΗΣ ΛΕΡΟΥ.
URL:https://the-leros-way.com/el/event/a%ce%b3%cf%8e%ce%bd%ce%b5%cf%82-%ce%ba%ce%bf%ce%bb%cf%8d%ce%bc%ce%b2%ce%b7%cf%83%ce%b7%cf%82-%ce%b1%ce%bb%ce%af%ce%bd%cf%84%ce%b9%ce%b1/
LOCATION:Alinda Beach\, Alinda Beach\, Leros\, 85400\, Greece
CATEGORIES:Special Event,άθλημα,Διοργανώσεις για παιδιά
ATTACH;FMTTYPE=image/jpeg:https://the-leros-way.com/wp-content/uploads/2024/07/Screenshot-2024-07-17-175716.jpg
ORGANIZER;CN="Leros Municipality":MAILTO:info@dopaisap.gr
END:VEVENT
END:VCALENDAR