BEGIN:VCALENDAR
VERSION:2.0
PRODID:-//The Leros Way - ECPv6.15.13.1//NONSGML v1.0//EN
CALSCALE:GREGORIAN
METHOD:PUBLISH
X-WR-CALNAME:The Leros Way
X-ORIGINAL-URL:https://the-leros-way.com/el/
X-WR-CALDESC:Events for The Leros Way
REFRESH-INTERVAL;VALUE=DURATION:PT1H
X-Robots-Tag:noindex
X-PUBLISHED-TTL:PT1H
BEGIN:VTIMEZONE
TZID:UTC
BEGIN:STANDARD
TZOFFSETFROM:+0000
TZOFFSETTO:+0000
TZNAME:UTC
DTSTART:20220101T000000
END:STANDARD
END:VTIMEZONE
BEGIN:VEVENT
DTSTART;TZID=UTC:20231203T100000
DTEND;TZID=UTC:20231203T130000
DTSTAMP:20260420T045329
CREATED:20231115T160519Z
LAST-MODIFIED:20231115T160519Z
UID:30659-1701597600-1701608400@the-leros-way.com
SUMMARY:Χριστουγεννιάτικη γιορτή του Πανιωνίου
DESCRIPTION:• ΔΙΑΓΩΝΙΣΜΟΣ ΖΑΧΑΡΟΠΛΑΣΤΙΚΗΣ ΜΕ ΘΕΜΑ ΤΗ «ΣΟΚΟΛΑΤΑ»  \n• CHRISTMAS BAZAAR ΜΕ ΣΤΟΛΙΔΙΑ ΑΠΟ 1 ΕΩΣ 5 €  \n• ΔΕΞΙΟΤΗΤΕΣ\, ΠΑΙΧΝΙΔΙΑ ΜΠΑΣΚΕΤ ΚΑΙ ΔΙΑΓΩΝΙΣΜΟΙ ΓΙΑ ΤΑ ΠΑΙΔΙΑ ΤΟΥ ΣΥΛΛΟΓΟΥ ΜΑΣ  \nΟΙ 2 ΠΡΩΤΟΙ ΝΙΚΗΤΕΣ ΤΟΥ ΔΙΑΓΩΝΙΣΜΟΥ ΖΑΧΑΡΟΠΛΑΣΤΙΚΗΣ ΘΑ ΚΕΡΔΙΣΟΥΝ ΑΠΟ 1 ΔΩΡΟΕΠΙΤΑΓΗ ΑΞΙΑΣ 50\,00 €  \n ΔΗΛΩΣΗ ΣΥΜΜΕΤΟΧΗΣ ΕΩΣ 25/11/2023 ΣΤΟ ΤΗΛΕΦΩΝΟ +30 694 1523 999 ΚΡΙΤΙΚΗ ΕΠΙΤΡΟΠΗ:  \n• ΡΕΠΑΠΗΣ ΓΙΑΝΝΗΣ  \n• ΣΚΟΡΔΑΛΗΣ ΘΑΝΑΣΗΣ  \n• ΤΑΧΛΙΑΜΠΟΥΡΗΣ ΝΙΚΟΣ
URL:https://the-leros-way.com/el/event/%cf%87%cf%81%ce%b9%cf%83%cf%84%ce%bf%cf%85%ce%b3%ce%b5%ce%bd%ce%bd%ce%b9%ce%ac%cf%84%ce%b9%ce%ba%ce%b7-%ce%b3%ce%b9%ce%bf%cf%81%cf%84%ce%ae-%cf%84%ce%bf%cf%85-%cf%80%ce%b1%ce%bd%ce%b9%cf%89%ce%bd/
LOCATION:Basketball Court\, Δημοτικό Κλειστό Γυμναστήριο Μερικιάς\, Leros\, 85400\, Greece
CATEGORIES:Special Event,άθλημα
ATTACH;FMTTYPE=image/webp:https://the-leros-way.com/wp-content/uploads/2023/11/viber_image_2023-11-15_17-46-22-514.webp
END:VEVENT
END:VCALENDAR