BEGIN:VCALENDAR
VERSION:2.0
PRODID:-//The Leros Way - ECPv6.15.13.1//NONSGML v1.0//EN
CALSCALE:GREGORIAN
METHOD:PUBLISH
X-WR-CALNAME:The Leros Way
X-ORIGINAL-URL:https://the-leros-way.com/el/
X-WR-CALDESC:Events for The Leros Way
REFRESH-INTERVAL;VALUE=DURATION:PT1H
X-Robots-Tag:noindex
X-PUBLISHED-TTL:PT1H
BEGIN:VTIMEZONE
TZID:UTC
BEGIN:STANDARD
TZOFFSETFROM:+0000
TZOFFSETTO:+0000
TZNAME:UTC
DTSTART:20230101T000000
END:STANDARD
END:VTIMEZONE
BEGIN:VEVENT
DTSTART;TZID=UTC:20240824T210000
DTEND;TZID=UTC:20240824T230000
DTSTAMP:20260420T062830
CREATED:20230629T065529Z
LAST-MODIFIED:20240703T054047Z
UID:41724-1724533200-1724540400@the-leros-way.com
SUMMARY:Moonlight cinema: Ταινίες μικρού μήκους 2ο μέρος Ten Shorts around the World 2024.
DESCRIPTION:Moonlight cinema\, \nΟργάνωση: Ελληνοϊταλικός Πολιτιστικός Σύλλογος Α.Ι.Α.Λ. σε συνεργασία με το Κέντρο Πολιτισμού Έρευνας και Ανάπτυξης Λέρου «ΑΡΤΕΜΗΣ» και το Ιταλικό Μορφωτικό Ινστιτούτο Αθηνών IT.Short Film Center . Είσοδος ελεύθερη.
URL:https://the-leros-way.com/el/event/%cf%80%ce%bb%ce%ac%cf%84%ce%b1%ce%bd%ce%bf%cf%82-%ce%b1%ce%af%ce%b8%cf%81%ce%b9%ce%bf%cf%82-%cf%87%cf%8e%cf%81%ce%bf%cf%82-%cf%83%cf%85%ce%bb%ce%bb%cf%8c%ce%b3%ce%bf%cf%85-%ce%ac%cf%81%cf%84%ce%b5-4/
LOCATION:Artemis Courtyard\, Ειρηνοδικείο Λέρου\, Leros\, 85400\, Greece
CATEGORIES:Movie,Ελληνοιταλικός Σύλλογος
ATTACH;FMTTYPE=image/jpeg:https://the-leros-way.com/wp-content/uploads/2023/06/Outdoor-cinema.jpg
ORGANIZER;CN="Greek-Italian Association of Friends of Leros %E2%80%9CAIAL%E2%80%9D":MAILTO:petrokaravo@yahoo.it
END:VEVENT
END:VCALENDAR