BEGIN:VCALENDAR
VERSION:2.0
PRODID:-//The Leros Way - ECPv6.15.13.1//NONSGML v1.0//EN
CALSCALE:GREGORIAN
METHOD:PUBLISH
X-WR-CALNAME:The Leros Way
X-ORIGINAL-URL:https://the-leros-way.com/el/
X-WR-CALDESC:Events for The Leros Way
REFRESH-INTERVAL;VALUE=DURATION:PT1H
X-Robots-Tag:noindex
X-PUBLISHED-TTL:PT1H
BEGIN:VTIMEZONE
TZID:UTC
BEGIN:STANDARD
TZOFFSETFROM:+0000
TZOFFSETTO:+0000
TZNAME:UTC
DTSTART:20240101T000000
END:STANDARD
END:VTIMEZONE
BEGIN:VEVENT
DTSTART;TZID=UTC:20250406T110000
DTEND;TZID=UTC:20250406T140000
DTSTAMP:20260419T190403
CREATED:20250405T061346Z
LAST-MODIFIED:20250405T061346Z
UID:46563-1743937200-1743948000@the-leros-way.com
SUMMARY:Περπατάμε για τον Αυτισμό
DESCRIPTION:🔷️️Κυριακή 6 Απριλίου\n📍️Αγία Μαρίνα 11 το πρωί \n❣️ΠΡΟΓΡΑΜΜΑ: \n📌Ωρα συγκέντρωσης 10.50 έως 11.00 στο λιμάνι της Αγίας Μαρίνας. \n📌11.00 Θα ξεκινήσουμε όλοι μαζί το περπάτημα από το λιμάνι μέχρι την Αγία Αικατερίνη (βενζινάδικο) και θα επιστρέψουμε για να διασκεδάσουμε. \n📌Δραστηριότητες:\n✖️Μελωδίες Χρωμάτων\n✖️Τα Χαρούμενα μπαλόνια\n✖️Το κολιέ της αγάπης\n✖️Yoga και Σωματικό παιχνίδι\n✖️Το ξεχωριστό μπρελόκ μου\n✖️Ο Μικρός κηπουρός\n✖️Face Painting\n✖️Μπαλονοκατασκευές \n⚠️Σύμφωνα με τη μετεωρολογική υπηρεσία αναμένεται ασθενής βροχή μετά τις 12 το μεσημέρι.\nΈχουμε μαζί μας ομπρελίτσα για κάθε ενδεχόμενο…
URL:https://the-leros-way.com/el/event/%cf%80%ce%b5%cf%81%cf%80%ce%b1%cf%84%ce%ac%ce%bc%ce%b5-%ce%b3%ce%b9%ce%b1-%cf%84%ce%bf%ce%bd-%ce%b1%cf%85%cf%84%ce%b9%cf%83%ce%bc%cf%8c-2/
LOCATION:Bourtzi\, Agia Marina\, Δωρεάν χώρος στάθμευσης\, Leros\, 854 00\, Greece
CATEGORIES:Special Event
ATTACH;FMTTYPE=image/webp:https://the-leros-way.com/wp-content/uploads/2025/03/484351715_10233003423083765_1885467718278241301_n-1.webp
ORGANIZER;CN="Leros Municipality":MAILTO:info@dopaisap.gr
END:VEVENT
END:VCALENDAR