BEGIN:VCALENDAR
VERSION:2.0
PRODID:-//The Leros Way - ECPv6.15.13.1//NONSGML v1.0//EN
CALSCALE:GREGORIAN
METHOD:PUBLISH
X-WR-CALNAME:The Leros Way
X-ORIGINAL-URL:https://the-leros-way.com/el/
X-WR-CALDESC:Events for The Leros Way
REFRESH-INTERVAL;VALUE=DURATION:PT1H
X-Robots-Tag:noindex
X-PUBLISHED-TTL:PT1H
BEGIN:VTIMEZONE
TZID:UTC
BEGIN:STANDARD
TZOFFSETFROM:+0000
TZOFFSETTO:+0000
TZNAME:UTC
DTSTART:20240101T000000
END:STANDARD
END:VTIMEZONE
BEGIN:VEVENT
DTSTART;TZID=UTC:20250331T090000
DTEND;TZID=UTC:20250401T210000
DTSTAMP:20260419T191054
CREATED:20250312T111722Z
LAST-MODIFIED:20250312T111722Z
UID:45973-1743411600-1743541200@the-leros-way.com
SUMMARY:Πασχαλικό Παζάρι από τον Φιλανθρωπικό Σύλλογο "Άγιος Σάββας"
DESCRIPTION:Γραφείο Συλλόγου “Άγιος Σάββας ο Νέος” – Πλάτανος\, Οδός Μαρκόπουλου\, 2Ώρα 9:00 το πρωί έως 9:00 το βράδυ \nΕίναι όμορφο ένας άνθρωπος να έχει συμμάχους στην πορεία της ζωής του. \nΣε όλη αυτή την προσπάθεια και το έργο\, είστε δίπλα μας\, συνοδοιπόροι και υποστηρικτές στην αγάπη προς τον συνάνθρωπο και την αλληλεγγύη.Αυτό λοιπόν το έργο γίνεται με τη δική σας αγάπη\, διάθεση\, προσφορά και αλληλεγγύη. \nΈνα έργο κατεξοχήν από την κοινωνία για την κοινωνία. \nΣας προσκαλούμε να αγαπήσουμε και να στηρίξουμε την εικόνα του Θεού\, τον συνάνθρωπό μας. \nΣας προσκαλούμε να γίνετε η ασφάλεια και ο σύμμαχος των πονεμένων\, των ασθενών\, των παιδιών και της τρίτης ηλικίας. \nΓια άλλη μια φορά\, γίνε κι εσύ το χέρι που προσφέρει\, για να βιώσουμε ουσιαστικά το Πάθος και την Ανάσταση του Κυρίου μας. \nΚανείς μόνος του στα δύσκολα. Η αγάπη ουδέποτε εκπίπτει. \nΓια πληροφορίες 6981877147
URL:https://the-leros-way.com/el/event/%cf%80%ce%b1%cf%83%cf%87%ce%b1%ce%bb%ce%b9%ce%ba%cf%8c-%cf%80%ce%b1%ce%b6%ce%ac%cf%81%ce%b9-%ce%b1%cf%80%cf%8c-%cf%84%ce%bf%ce%bd-%cf%86%ce%b9%ce%bb%ce%b1%ce%bd%ce%b8%cf%81%cf%89%cf%80%ce%b9%ce%ba/
LOCATION:Agios Savvas Association\, 5V34+5Q Agia Marina\, 85400\, Greece
CATEGORIES:Special Event
ATTACH;FMTTYPE=image/webp:https://the-leros-way.com/wp-content/uploads/2025/03/viber_image_2025-03-12_13-01-36-133-1.webp
END:VEVENT
END:VCALENDAR