BEGIN:VCALENDAR
VERSION:2.0
PRODID:-//The Leros Way - ECPv6.15.13.1//NONSGML v1.0//EN
CALSCALE:GREGORIAN
METHOD:PUBLISH
X-WR-CALNAME:The Leros Way
X-ORIGINAL-URL:https://the-leros-way.com/el/
X-WR-CALDESC:Events for The Leros Way
REFRESH-INTERVAL;VALUE=DURATION:PT1H
X-Robots-Tag:noindex
X-PUBLISHED-TTL:PT1H
BEGIN:VTIMEZONE
TZID:UTC
BEGIN:STANDARD
TZOFFSETFROM:+0000
TZOFFSETTO:+0000
TZNAME:UTC
DTSTART:20230101T000000
END:STANDARD
END:VTIMEZONE
BEGIN:VEVENT
DTSTART;TZID=UTC:20240918T190000
DTEND;TZID=UTC:20240918T210000
DTSTAMP:20260420T031122
CREATED:20240911T063117Z
LAST-MODIFIED:20240911T063117Z
UID:43186-1726686000-1726693200@the-leros-way.com
SUMMARY:Παρουσίαση του παιδικού βιβλίου: "Τογκαμπί του βασιλιά και το μυστήριο του Πολέριο με τον συγγραφέα Κώστα Στοφόρο!"
DESCRIPTION:Πότε; Τετάρτη 18 Σεπτεμβρίου στις 19:00Πού; Δημοτική Βιβλιοθήκη ΠλατάνουΗ εκδήλωση διοργανώνεται στο πλαίσιο του θεσμού«Οι μορφωτικές Τετάρτες της βιβλιοθήκης».Την παρουσίαση του συγγραφέα θα πλαισιώσουνο κ. Πέτρος Καρναχωρίτης και η κα Φανή Ιωαννίδου.   
URL:https://the-leros-way.com/el/event/%cf%80%ce%b1%cf%81%ce%bf%cf%85%cf%83%ce%af%ce%b1%cf%83%ce%b7-%cf%84%ce%bf%cf%85-%cf%80%ce%b1%ce%b9%ce%b4%ce%b9%ce%ba%ce%bf%cf%8d-%ce%b2%ce%b9%ce%b2%ce%bb%ce%af%ce%bf%cf%85-%cf%84%ce%bf%ce%b3%ce%ba/
LOCATION:Municipal Library\, Δημόσια Βιβλιοθήκη Λέρου\, Leros\, 85400\, Greece
CATEGORIES:Δημοσίευση Βιβλίου
ATTACH;FMTTYPE=image/webp:https://the-leros-way.com/wp-content/uploads/2024/09/il.gambetto.del_.re_afisa-4b-scaled.webp
ORGANIZER;CN="Greek-Italian Association of Friends of Leros %E2%80%9CAIAL%E2%80%9D":MAILTO:petrokaravo@yahoo.it
END:VEVENT
END:VCALENDAR