BEGIN:VCALENDAR
VERSION:2.0
PRODID:-//The Leros Way - ECPv6.15.13.1//NONSGML v1.0//EN
CALSCALE:GREGORIAN
METHOD:PUBLISH
X-WR-CALNAME:The Leros Way
X-ORIGINAL-URL:https://the-leros-way.com/el/
X-WR-CALDESC:Events for The Leros Way
REFRESH-INTERVAL;VALUE=DURATION:PT1H
X-Robots-Tag:noindex
X-PUBLISHED-TTL:PT1H
BEGIN:VTIMEZONE
TZID:UTC
BEGIN:STANDARD
TZOFFSETFROM:+0000
TZOFFSETTO:+0000
TZNAME:UTC
DTSTART:20240101T000000
END:STANDARD
END:VTIMEZONE
BEGIN:VEVENT
DTSTART;TZID=UTC:20250726T210000
DTEND;TZID=UTC:20250726T233000
DTSTAMP:20260422T132209
CREATED:20230628T071310Z
LAST-MODIFIED:20250613T145809Z
UID:41698-1753563600-1753572600@the-leros-way.com
SUMMARY:Παραδοσιακό πανηγύρι Αγ. Παντελεήμονα:
DESCRIPTION:Μια αξέχαστη βραδιά γεμάτη μουσική και διασκέδαση. Ελάτε να γιορτάσουμε μαζί\, να χορέψουμε και να διασκεδάσουμε με λέρικη ορχήστρα και κρασί δωρεάν.
URL:https://the-leros-way.com/el/event/%cf%80%ce%b1%cf%81%ce%b1%ce%b4%ce%bf%cf%83%ce%b9%ce%b1%ce%ba%cf%8c-%cf%80%ce%b1%ce%bd%ce%b7%ce%b3%cf%8d%cf%81%ce%b9-%ce%b1%ce%b3-%cf%80%ce%b1%ce%bd%cf%84%ce%b5%ce%bb%ce%b5%ce%ae%ce%bc%ce%bf%ce%bd/
LOCATION:Patelo square\, Patelo Squair\, Leros\, 85400\, Greece
CATEGORIES:Μουσική,Φεστιβάλ,Χορός
ATTACH;FMTTYPE=image/jpeg:https://the-leros-way.com/wp-content/uploads/2023/06/Patelo-Festival.jpg
ORGANIZER;CN="Leros Municipality":MAILTO:info@dopaisap.gr
END:VEVENT
END:VCALENDAR