BEGIN:VCALENDAR
VERSION:2.0
PRODID:-//The Leros Way - ECPv6.15.13.1//NONSGML v1.0//EN
CALSCALE:GREGORIAN
METHOD:PUBLISH
X-WR-CALNAME:The Leros Way
X-ORIGINAL-URL:https://the-leros-way.com/el/
X-WR-CALDESC:Events for The Leros Way
REFRESH-INTERVAL;VALUE=DURATION:PT1H
X-Robots-Tag:noindex
X-PUBLISHED-TTL:PT1H
BEGIN:VTIMEZONE
TZID:UTC
BEGIN:STANDARD
TZOFFSETFROM:+0000
TZOFFSETTO:+0000
TZNAME:UTC
DTSTART:20230101T000000
END:STANDARD
END:VTIMEZONE
BEGIN:VEVENT
DTSTART;TZID=UTC:20240419T130000
DTEND;TZID=UTC:20240419T170000
DTSTAMP:20260422T161438
CREATED:20240416T132551Z
LAST-MODIFIED:20240416T132551Z
UID:34029-1713531600-1713546000@the-leros-way.com
SUMMARY:Πάρτυ στο Μπακάλικο από το Φιλοζωικό Σωματείο Λέρου
DESCRIPTION:Το φιλοζωικό Σωματείο οργανώνει Παρασκευή μεσημέρι γεύμα με  Τ Τζέι στο Μπακάλικο. \nΓενική Είσοδος : 4€ \nΤα λεφτά αυτά αποσκοπούν στο να αγοραστούν τροφές για τα 80 σκυλιά του καταφυγίου
URL:https://the-leros-way.com/el/event/%cf%80%ce%ac%cf%81%cf%84%cf%85-%cf%83%cf%84%ce%bf-%ce%bc%cf%80%ce%b1%ce%ba%ce%ac%ce%bb%ce%b9%ce%ba%ce%bf-%ce%b1%cf%80%cf%8c-%cf%84%ce%bf-%cf%86%ce%b9%ce%bb%ce%bf%ce%b6%cf%89%ce%b9%ce%ba%cf%8c-%cf%83/
LOCATION:Bakaliko me Tsipouro\, Μπακάλικο με τσίπουρο\, Leros\, 85400\, Greece
CATEGORIES:Special Event
ATTACH;FMTTYPE=image/jpeg:https://the-leros-way.com/wp-content/uploads/2024/04/viber_image_2024-04-16_16-18-34-897.jpg
ORGANIZER;CN="%CE%A6%CE%B9%CE%BB%CE%BF%CE%B6%CF%89%CE%B9%CE%BA%CF%8C %CE%A3%CF%89%CE%BC%CE%B1%CF%84%CE%B5%CE%AF%CE%BF '%CE%91%CE%B4%CE%AD%CF%83%CF%80%CE%BF%CF%84%CE%B1 %CE%A0%CE%B1%CF%84%CE%BF%CF%85%CF%83%CE%AC%CE%BA%CE%B9%CE%B1 %CE%9B%CE%AD%CF%81%CE%BF%CF%85'":MAILTO:straypawsofleros@yahoo.com
END:VEVENT
END:VCALENDAR