BEGIN:VCALENDAR
VERSION:2.0
PRODID:-//The Leros Way - ECPv6.15.13.1//NONSGML v1.0//EN
CALSCALE:GREGORIAN
METHOD:PUBLISH
X-WR-CALNAME:The Leros Way
X-ORIGINAL-URL:https://the-leros-way.com/el/
X-WR-CALDESC:Events for The Leros Way
REFRESH-INTERVAL;VALUE=DURATION:PT1H
X-Robots-Tag:noindex
X-PUBLISHED-TTL:PT1H
BEGIN:VTIMEZONE
TZID:UTC
BEGIN:STANDARD
TZOFFSETFROM:+0000
TZOFFSETTO:+0000
TZNAME:UTC
DTSTART:20240101T000000
END:STANDARD
END:VTIMEZONE
BEGIN:VEVENT
DTSTART;TZID=UTC:20250322T220000
DTEND;TZID=UTC:20250322T233000
DTSTAMP:20260422T102359
CREATED:20250319T095126Z
LAST-MODIFIED:20250319T095449Z
UID:46147-1742680800-1742686200@the-leros-way.com
SUMMARY:Disco Party at Cielo Club
DESCRIPTION:Saturday 22/03 22;00  at Cielo Club \nwe gather\, dance\, and we support financially a family in need
URL:https://the-leros-way.com/el/event/%cf%80%ce%ac%cf%81%cf%84%cf%85-%cf%83%cf%84%ce%ae%cf%81%ce%b9%ce%be%ce%b7%cf%82-%ce%b1%cf%80%cf%8c-%cf%84%ce%bf-%ce%bc%cf%80%ce%b5%ce%bb%ce%bb%ce%ad%ce%bd%ce%b5%ce%b9%ce%bf-%ce%b3%cf%85%ce%bc%ce%bd/
LOCATION:Diana Disco Club\, Cielo Club Pandeli\, Leros\, Greece
CATEGORIES:Charity Event
ATTACH;FMTTYPE=image/jpeg:https://the-leros-way.com/wp-content/uploads/2025/03/viber_image_2025-03-19_11-44-44-179.jpg
END:VEVENT
END:VCALENDAR