BEGIN:VCALENDAR
VERSION:2.0
PRODID:-//The Leros Way - ECPv6.15.20//NONSGML v1.0//EN
CALSCALE:GREGORIAN
METHOD:PUBLISH
X-WR-CALNAME:The Leros Way
X-ORIGINAL-URL:https://the-leros-way.com/el/
X-WR-CALDESC:Events for The Leros Way
REFRESH-INTERVAL;VALUE=DURATION:PT1H
X-Robots-Tag:noindex
X-PUBLISHED-TTL:PT1H
BEGIN:VTIMEZONE
TZID:UTC
BEGIN:STANDARD
TZOFFSETFROM:+0000
TZOFFSETTO:+0000
TZNAME:UTC
DTSTART:20240101T000000
END:STANDARD
END:VTIMEZONE
BEGIN:VEVENT
DTSTART;TZID=UTC:20250716T210000
DTEND;TZID=UTC:20250716T230000
DTSTAMP:20260424T152528
CREATED:20250616T133201Z
LAST-MODIFIED:20250616T133201Z
UID:48744-1752699600-1752706800@the-leros-way.com
SUMMARY:Μουσική βραδιά
DESCRIPTION:Μια μαγική\, μουσική βραδιά με τίτλο: «Ένα ταξίδι στο ελληνικό φως». φιλική συμμετοχή : Τάκης Φραγκούς\, Εμμανουήλ Μακρής\, Ιωάννης Καλογερόπουλος. \nΕίσοδος ελεύθερη.
URL:https://the-leros-way.com/el/event/%ce%bc%ce%bf%cf%85%cf%83%ce%b9%ce%ba%ce%ae-%ce%b2%cf%81%ce%b1%ce%b4%ce%b9%ce%ac/
LOCATION:2ος Μύλος\, Λέρικο Παραδοσιακό σπίτι\, Λέρος\, 85400
CATEGORIES:Συναυλία
END:VEVENT
END:VCALENDAR