BEGIN:VCALENDAR
VERSION:2.0
PRODID:-//The Leros Way - ECPv6.15.13.1//NONSGML v1.0//EN
CALSCALE:GREGORIAN
METHOD:PUBLISH
X-WR-CALNAME:The Leros Way
X-ORIGINAL-URL:https://the-leros-way.com/el/
X-WR-CALDESC:Events for The Leros Way
REFRESH-INTERVAL;VALUE=DURATION:PT1H
X-Robots-Tag:noindex
X-PUBLISHED-TTL:PT1H
BEGIN:VTIMEZONE
TZID:UTC
BEGIN:STANDARD
TZOFFSETFROM:+0000
TZOFFSETTO:+0000
TZNAME:UTC
DTSTART:20240101T000000
END:STANDARD
END:VTIMEZONE
BEGIN:VEVENT
DTSTART;TZID=UTC:20250420T120000
DTEND;TZID=UTC:20250420T180000
DTSTAMP:20260420T123031
CREATED:20250418T065051Z
LAST-MODIFIED:20250418T065051Z
UID:46739-1745150400-1745172000@the-leros-way.com
SUMMARY:Κυριακή του Πάσχα στο Navarone – Για μικρούς & μεγάλους
DESCRIPTION:Κυριακή του Πάσχα στο Navarone από τον πρωί με Λερικο πρωινό και γλυκά για όλους ! Την Κυριακή του Πάσχα\, μετά το γλέντι και τα τραπέζια\, το Navarone γεμίζει μυρωδιές\, χρώματα και… παιδικά χαμόγελα! Από τις 12:00 έως τις 17:00\, ελάτε για μια ξεχωριστή εμπειρία για όλη την οικογένεια
URL:https://the-leros-way.com/el/event/%ce%ba%cf%85%cf%81%ce%b9%ce%b1%ce%ba%ce%ae-%cf%84%ce%bf%cf%85-%cf%80%ce%ac%cf%83%cf%87%ce%b1-%cf%83%cf%84%ce%bf-navarone-%ce%b3%ce%b9%ce%b1-%ce%bc%ce%b9%ce%ba%cf%81%ce%bf%cf%8d%cf%82/
LOCATION:Νavarone Estate\, https://maps.app.goo.gl/9SikDv2qbo2YEFs38\, Leros\, 85400\, Greece
CATEGORIES:Διοργανώσεις για παιδιά
ATTACH;FMTTYPE=image/jpeg:https://the-leros-way.com/wp-content/uploads/2025/04/5c42a1f7-ab65-4aaa-a6a2-9404c93cc8f4.jpeg
END:VEVENT
END:VCALENDAR