BEGIN:VCALENDAR
VERSION:2.0
PRODID:-//The Leros Way - ECPv6.15.13.1//NONSGML v1.0//EN
CALSCALE:GREGORIAN
METHOD:PUBLISH
X-WR-CALNAME:The Leros Way
X-ORIGINAL-URL:https://the-leros-way.com/el/
X-WR-CALDESC:Events for The Leros Way
REFRESH-INTERVAL;VALUE=DURATION:PT1H
X-Robots-Tag:noindex
X-PUBLISHED-TTL:PT1H
BEGIN:VTIMEZONE
TZID:UTC
BEGIN:STANDARD
TZOFFSETFROM:+0000
TZOFFSETTO:+0000
TZNAME:UTC
DTSTART:20240101T000000
END:STANDARD
END:VTIMEZONE
BEGIN:VEVENT
DTSTART;TZID=UTC:20250714T210000
DTEND;TZID=UTC:20250714T230000
DTSTAMP:20260420T044555
CREATED:20250616T130719Z
LAST-MODIFIED:20250616T130719Z
UID:48731-1752526800-1752534000@the-leros-way.com
SUMMARY:Κεντρική χορευτική παράσταση: Ελλήνων Συνάντησις
DESCRIPTION:Επιμέλεια-διδασκαλία: Χατζηκωνσταντίνου Ζαχαρούλα.  \nΣυμμετέχει το Πολιτιστικό-Καλλιτεχνικό Σωματείο «Εταιρία Θεάτρου Γ.Κ Φωτιάδης (Θεσσαλονίκης) και Χορευτικό Συγκρότημα Νεανικής Εστίας Ι.Ν Ζωοδόχου Πηγής Αμπελοκήπων (Θεσσαλονίκης).
URL:https://the-leros-way.com/el/event/%ce%ba%ce%b5%ce%bd%cf%84%cf%81%ce%b9%ce%ba%ce%ae-%cf%87%ce%bf%cf%81%ce%b5%cf%85%cf%84%ce%b9%ce%ba%ce%ae-%cf%80%ce%b1%cf%81%ce%ac%cf%83%cf%84%ce%b1%cf%83%ce%b7-%ce%b5%ce%bb%ce%bb%ce%ae%ce%bd%cf%89/
LOCATION:«ΝΙΚΟΛΑΪΔΕΙΟ» ΔΗΜΟΤΙΚΟ ΣΧΟΛΕΙΟ ΑΓΙΑΣ ΜΑΡΙΝΑΣ ΛΕΡΟΥ\, «ΝΙΚΟΛΑΪΔΕΙΟ» ΔΗΜΟΤΙΚΟ ΣΧΟΛΕΙΟ ΑΓΙΑΣ ΜΑΡΙΝΑΣ ΛΕΡΟΥ\, Λέρος\, 85400\, Greece
CATEGORIES:Πολιτιστικό Κέντρο Άρτεμις,Χορός
ATTACH;FMTTYPE=image/webp:https://the-leros-way.com/wp-content/uploads/2025/06/13934832_1123087421104003_5290922554841556939_n-1170x570-1.webp
ORGANIZER;CN="Artemis":MAILTO:artemis@leros.com
END:VEVENT
END:VCALENDAR