BEGIN:VCALENDAR
VERSION:2.0
PRODID:-//The Leros Way - ECPv6.15.13.1//NONSGML v1.0//EN
CALSCALE:GREGORIAN
METHOD:PUBLISH
X-WR-CALNAME:The Leros Way
X-ORIGINAL-URL:https://the-leros-way.com/el/
X-WR-CALDESC:Events for The Leros Way
REFRESH-INTERVAL;VALUE=DURATION:PT1H
X-Robots-Tag:noindex
X-PUBLISHED-TTL:PT1H
BEGIN:VTIMEZONE
TZID:UTC
BEGIN:STANDARD
TZOFFSETFROM:+0000
TZOFFSETTO:+0000
TZNAME:UTC
DTSTART:20240101T000000
END:STANDARD
END:VTIMEZONE
BEGIN:VEVENT
DTSTART;TZID=UTC:20251115T180000
DTEND;TZID=UTC:20251116T120000
DTSTAMP:20260422T083022
CREATED:20251103T072415Z
LAST-MODIFIED:20251103T073421Z
UID:50591-1763229600-1763294400@the-leros-way.com
SUMMARY:Καραγκιόζης...ο Αυτοκράτορας του γέλιου
DESCRIPTION:To Θέατρο Σκιών του Δήμου Ρεπούλη\, έρχεται για πρώτη φορά στη Λέρο\, για να σας παρουσιάσει\, μια ξεκαρδιστική κωμωδία\, από τα (ουκ ολίγα) κατορθώματα του γνωστού σε όλους μας Καραγκιόζη! \nΟ λαοφιλής κωμικός\, θα σας διασκεδάσει με το αστείρευτο χιούμορ του και τις περιπέτειες του\, σε μια παράσταση με άρωμα παράδοσης και τέχνης! \nΣας περιμένουμε όλους\, σε μια ξεχωριστή παράσταση Θεάτρου Σκιών\, για μικρούς και μεγάλους\, από 2 έως…102 ετών\, να γελάσετε με την καρδιά σας! Στο Δημοτικό ΚινηματοΘέατρο Λέρου\, στο Λακκί  \n– Σάββατο 15 Νοεμβρίου και ώρα 18:00 \n– Κυριακή 16 Νοεμβρίου και ώρα 12:00 \nΓΕΝΙΚΗ ΕΙΣΟΔΟΣ: 7€ \nΤρέξατε μικροί και μεγάλοι…Όλοι στον Καραγκιόζη!!!
URL:https://the-leros-way.com/el/event/%ce%ba%ce%b1%cf%81%ce%b1%ce%b3%ce%ba%ce%b9%cf%8c%ce%b6%ce%b7%cf%82-%ce%bf-%ce%b1%cf%85%cf%84%ce%bf%ce%ba%cf%81%ce%ac%cf%84%ce%bf%cf%81%ce%b1%cf%82-%cf%84%ce%bf%cf%85-%ce%b3%ce%ad%ce%bb%ce%b9%ce%bf/
LOCATION:Leros Cinema\, Municipal Cinema Leros\, Leros\, 85400\, Greece
CATEGORIES:Διοργανώσεις για παιδιά,Θεατρική Παράσταση,Σινεμά
ATTACH;FMTTYPE=image/webp:https://the-leros-way.com/wp-content/uploads/2025/11/Screenshot-2025-11-03-091927.webp
END:VEVENT
END:VCALENDAR