BEGIN:VCALENDAR
VERSION:2.0
PRODID:-//The Leros Way - ECPv6.15.13.1//NONSGML v1.0//EN
CALSCALE:GREGORIAN
METHOD:PUBLISH
X-WR-CALNAME:The Leros Way
X-ORIGINAL-URL:https://the-leros-way.com/el/
X-WR-CALDESC:Events for The Leros Way
REFRESH-INTERVAL;VALUE=DURATION:PT1H
X-Robots-Tag:noindex
X-PUBLISHED-TTL:PT1H
BEGIN:VTIMEZONE
TZID:UTC
BEGIN:STANDARD
TZOFFSETFROM:+0000
TZOFFSETTO:+0000
TZNAME:UTC
DTSTART:20240101T000000
END:STANDARD
END:VTIMEZONE
BEGIN:VEVENT
DTSTART;TZID=UTC:20250918T190000
DTEND;TZID=UTC:20250918T233000
DTSTAMP:20260420T195022
CREATED:20250917T103433Z
LAST-MODIFIED:20250917T103433Z
UID:50054-1758222000-1758238200@the-leros-way.com
SUMMARY:Βραδιές Σούσι
DESCRIPTION:Οι πιο εκλεκτές δημιουργίες σούσι σάς περιμένουν για 2 βράδια στο Navarone Estate. \nΜε υπέροχη θέα\, ήλιο που αγκαλιάζει τη θάλασσα και γεύσεις που ξυπνούν τις αισθήσεις\, η εμπειρία στο Navarone είναι κάτι παραπάνω από φαγητό — είναι απόδραση. Συνδυάστε κάθε μπουκιά με χειροποίητα ιαπωνικά κοκτέιλ που αναδεικνύουν κάθε πιάτο.  \nΜην το χάσετε! \nΚΡΑΤΗΣΕΙΣ\n+30 22470 25074
URL:https://the-leros-way.com/el/event/%ce%b2%cf%81%ce%b1%ce%b4%ce%b9%ce%ad%cf%82-%cf%83%ce%bf%cf%8d%cf%83%ce%b9/
LOCATION:Navarone Estate\, Navarone\, Leros\, Dodecanese\, 85400\, Greece
CATEGORIES:Special Event
ATTACH;FMTTYPE=image/webp:https://the-leros-way.com/wp-content/uploads/2025/09/Screenshot-2025-09-17-130950.webp
END:VEVENT
END:VCALENDAR