BEGIN:VCALENDAR
VERSION:2.0
PRODID:-//The Leros Way - ECPv6.15.13.1//NONSGML v1.0//EN
CALSCALE:GREGORIAN
METHOD:PUBLISH
X-WR-CALNAME:The Leros Way
X-ORIGINAL-URL:https://the-leros-way.com/el/
X-WR-CALDESC:Events for The Leros Way
REFRESH-INTERVAL;VALUE=DURATION:PT1H
X-Robots-Tag:noindex
X-PUBLISHED-TTL:PT1H
BEGIN:VTIMEZONE
TZID:UTC
BEGIN:STANDARD
TZOFFSETFROM:+0000
TZOFFSETTO:+0000
TZNAME:UTC
DTSTART:20240101T000000
END:STANDARD
END:VTIMEZONE
BEGIN:VEVENT
DTSTART;VALUE=DATE:20251001
DTEND;VALUE=DATE:20251011
DTSTAMP:20260419T141704
CREATED:20251003T074126Z
LAST-MODIFIED:20251003T074126Z
UID:50155-1759276800-1760140799@the-leros-way.com
SUMMARY:Μεξικάνικο Μενού στο Navarone
DESCRIPTION:Απολαύστε τη μοναδική Μεξικάνικη εμπειρία στο Navarone ή στο σπίτι σας.\n\n\nΑπό 1 έως 10 Οκτωβρίου\, ετοιμαστείτε να ζήσετε την απόλυτη μεξικανική εμπειρία! \n\n\n\nΛαχταριστά tacos\, ζουμερά burritos\, γευστικές σαλάτες και μοναδικές μεξικάνικες δημιουργίες\, σας περιμένουν να τα δοκιμάσετε!\n\n\n\n\n\n\n𝐃𝐞𝐥𝐢𝐯𝐞𝐫𝐲 & 𝐑𝐞𝐬𝐞𝐫𝐯𝐚𝐭𝐢𝐨𝐧𝐬 2247025074
URL:https://the-leros-way.com/el/event/%ce%bc%ce%b5%ce%be%ce%b9%ce%ba%ce%ac%ce%bd%ce%b9%ce%ba%ce%bf-%ce%bc%ce%b5%ce%bd%ce%bf%cf%8d-%cf%83%cf%84%ce%bf-navarone/
LOCATION:Navarone Estate\, Navarone\, Leros\, Dodecanese\, 85400\, Greece
CATEGORIES:Special Event,Θεματική Κουζίνα
ATTACH;FMTTYPE=image/webp:https://the-leros-way.com/wp-content/uploads/2025/10/WhatsApp-Image-2025-10-03-at-09.49.09_e15dc38c.webp
END:VEVENT
END:VCALENDAR