BEGIN:VCALENDAR
VERSION:2.0
PRODID:-//The Leros Way - ECPv6.15.13.1//NONSGML v1.0//EN
CALSCALE:GREGORIAN
METHOD:PUBLISH
X-ORIGINAL-URL:https://the-leros-way.com/el/
X-WR-CALDESC:Events for The Leros Way
REFRESH-INTERVAL;VALUE=DURATION:PT1H
X-Robots-Tag:noindex
X-PUBLISHED-TTL:PT1H
BEGIN:VTIMEZONE
TZID:UTC
BEGIN:STANDARD
TZOFFSETFROM:+0000
TZOFFSETTO:+0000
TZNAME:UTC
DTSTART:20240101T000000
END:STANDARD
END:VTIMEZONE
BEGIN:VEVENT
DTSTART;TZID=UTC:20250709T190000
DTEND;TZID=UTC:20250709T233000
DTSTAMP:20260419T180404
CREATED:20250708T090220Z
LAST-MODIFIED:20250708T090220Z
UID:49317-1752087600-1752103800@the-leros-way.com
SUMMARY:Βραδιά Sushi στο Navarone
DESCRIPTION:Δίπλα στη θάλασσα\, εκεί που το ηλιοβασίλεμα γίνεται το ιδανικό φόντο\nΑπολαύστε φρέσκο sushi και μοναδικά ιαπωνικά cocktails\, ειδικά συνδυασμένα για να αναδείξουν κάθε γεύση. \nΜια ξεχωριστή καλοκαιρινή εμπειρία\, με γεύσεις από το Τόκιο και θέα το Αιγαίο. \nΚρατήσεις στο +30 22470 25074
URL:https://the-leros-way.com/el/event/%ce%b2%cf%81%ce%b1%ce%b4%ce%b9%ce%ac-sushi-%cf%83%cf%84%ce%bf-navarone/
LOCATION:Navarone Estate\, Navarone\, Leros\, Dodecanese\, 85400\, Greece
CATEGORIES:Special Event
ATTACH;FMTTYPE=image/webp:https://the-leros-way.com/wp-content/uploads/2025/07/872b2e73-0185-4a64-9c18-278a72fb7c7e.webp
END:VEVENT
END:VCALENDAR