BEGIN:VCALENDAR
VERSION:2.0
PRODID:-//The Leros Way - ECPv6.15.13.1//NONSGML v1.0//EN
CALSCALE:GREGORIAN
METHOD:PUBLISH
X-WR-CALNAME:The Leros Way
X-ORIGINAL-URL:https://the-leros-way.com/el/
X-WR-CALDESC:Events for The Leros Way
REFRESH-INTERVAL;VALUE=DURATION:PT1H
X-Robots-Tag:noindex
X-PUBLISHED-TTL:PT1H
BEGIN:VTIMEZONE
TZID:UTC
BEGIN:STANDARD
TZOFFSETFROM:+0000
TZOFFSETTO:+0000
TZNAME:UTC
DTSTART:20240101T000000
END:STANDARD
END:VTIMEZONE
BEGIN:VEVENT
DTSTART;TZID=UTC:20250621T210000
DTEND;TZID=UTC:20250621T230000
DTSTAMP:20260419T175921
CREATED:20250610T134239Z
LAST-MODIFIED:20250610T135010Z
UID:48543-1750539600-1750546800@the-leros-way.com
SUMMARY:Ιταλική Ταινία: Funerailles (Non ti voglio-Δε σε θέλω)
DESCRIPTION:Προβολή της ταινίας Funerailles (Non ti voglio) παρουσία του σκηνοθέτη Antonio Bido. \nΑγγλικοί υπότιτλοι \nΕίσοδος ελεύθερη
URL:https://the-leros-way.com/el/event/%ce%b9%cf%84%ce%b1%ce%bb%ce%b9%ce%ba%ce%ae-%cf%84%ce%b1%ce%b9%ce%bd%ce%af%ce%b1-funerailles-non-ti-voglio-%ce%b4%ce%b5-%cf%83%ce%b5-%ce%b8%ce%ad%ce%bb%cf%89/
LOCATION:Leros Cinema\, Municipal Cinema Leros\, Leros\, 85400\, Greece
CATEGORIES:Movie,Special Event,Σινεμά
ATTACH;FMTTYPE=image/webp:https://the-leros-way.com/wp-content/uploads/2025/06/MV5BOThiYTMyM2EtNDE2OS00NmJhLWIwOTYtNGQ5ODk2NWRiMjA4XkEyXkFqcGc@._V1_.webp
ORGANIZER;CN="Greek-Italian Association of Friends of Leros %E2%80%9CAIAL%E2%80%9D":MAILTO:petrokaravo@yahoo.it
END:VEVENT
END:VCALENDAR