BEGIN:VCALENDAR
VERSION:2.0
PRODID:-//The Leros Way - ECPv6.15.13.1//NONSGML v1.0//EN
CALSCALE:GREGORIAN
METHOD:PUBLISH
X-ORIGINAL-URL:https://the-leros-way.com/el/
X-WR-CALDESC:Events for The Leros Way
REFRESH-INTERVAL;VALUE=DURATION:PT1H
X-Robots-Tag:noindex
X-PUBLISHED-TTL:PT1H
BEGIN:VTIMEZONE
TZID:UTC
BEGIN:STANDARD
TZOFFSETFROM:+0000
TZOFFSETTO:+0000
TZNAME:UTC
DTSTART:20240101T000000
END:STANDARD
END:VTIMEZONE
BEGIN:VEVENT
DTSTART;TZID=UTC:20250618T190000
DTEND;TZID=UTC:20250618T213000
DTSTAMP:20260419T180206
CREATED:20240613T102952Z
LAST-MODIFIED:20250610T131056Z
UID:41159-1750273200-1750282200@the-leros-way.com
SUMMARY:Παρουσίαση βιβλίου της Marisa Andalò
DESCRIPTION:Η Marisa Andalò θα παρουσιάσει το βιβλίο της “Il tarlo del male”  \nΕίσοδος ελεύθερη
URL:https://the-leros-way.com/el/event/%cf%80%ce%b1%cf%81%ce%bf%cf%85%cf%83%ce%af%ce%b1%cf%83%ce%b7-%cf%84%ce%b7%cf%82-%cf%83%cf%85%ce%bb%ce%bb%ce%bf%ce%b3%ce%b7%cf%82-%ce%b4%ce%b9%ce%b7%ce%b3%ce%b7%ce%bc%ce%ac%cf%84%cf%89%ce%bd-%cf%84/
LOCATION:Municipal Library\, Δημόσια Βιβλιοθήκη Λέρου\, Leros\, 85400\, Greece
CATEGORIES:Special Event,Δημοσίευση Βιβλίου
ATTACH;FMTTYPE=image/webp:https://the-leros-way.com/wp-content/uploads/2024/06/Prosklisi_Eglima-ston-Galata-Meno-Ekei.webp
ORGANIZER;CN="Greek-Italian Association of Friends of Leros %E2%80%9CAIAL%E2%80%9D":MAILTO:petrokaravo@yahoo.it
END:VEVENT
END:VCALENDAR